BEGIN:VCALENDAR
VERSION:2.0
PRODID:-//Schöb Events - ECPv6.15.17.1//NONSGML v1.0//EN
CALSCALE:GREGORIAN
METHOD:PUBLISH
X-WR-CALNAME:Schöb Events
X-ORIGINAL-URL:https://www.schoeb-events.ch
X-WR-CALDESC:Veranstaltungen für Schöb Events
REFRESH-INTERVAL;VALUE=DURATION:PT1H
X-Robots-Tag:noindex
X-PUBLISHED-TTL:PT1H
BEGIN:VTIMEZONE
TZID:Europe/Zurich
BEGIN:DAYLIGHT
TZOFFSETFROM:+0100
TZOFFSETTO:+0200
TZNAME:CEST
DTSTART:20230326T010000
END:DAYLIGHT
BEGIN:STANDARD
TZOFFSETFROM:+0200
TZOFFSETTO:+0100
TZNAME:CET
DTSTART:20231029T010000
END:STANDARD
BEGIN:DAYLIGHT
TZOFFSETFROM:+0100
TZOFFSETTO:+0200
TZNAME:CEST
DTSTART:20240331T010000
END:DAYLIGHT
BEGIN:STANDARD
TZOFFSETFROM:+0200
TZOFFSETTO:+0100
TZNAME:CET
DTSTART:20241027T010000
END:STANDARD
BEGIN:DAYLIGHT
TZOFFSETFROM:+0100
TZOFFSETTO:+0200
TZNAME:CEST
DTSTART:20250330T010000
END:DAYLIGHT
BEGIN:STANDARD
TZOFFSETFROM:+0200
TZOFFSETTO:+0100
TZNAME:CET
DTSTART:20251026T010000
END:STANDARD
END:VTIMEZONE
BEGIN:VEVENT
DTSTART;TZID=Europe/Zurich:20240812T080000
DTEND;TZID=Europe/Zurich:20240812T180000
DTSTAMP:20260420T114037
CREATED:20240404T193427Z
LAST-MODIFIED:20240404T193427Z
UID:10000295-1723449600-1723485600@www.schoeb-events.ch
SUMMARY:Adventure Arena & Schifffahrt
DESCRIPTION:Heute ist Action & Fun angesagt! In den Spielwelten der Adventure Arena in Dübendorf tauchen wir in kleinen Gruppen in verschiedene Erlebnisräume ein und können mit Geschicklichkeit und Teamwork einmalige Abenteuer-Missionen erleben und deren Rätsel lösen. Die Aufgaben in den einzelnen Adventure Rooms können frei gewählt werden oder auch mehrmals gelöst werden. Den Nachmittag verbringen wir auf dem Zürichsee bei einer Schifffahrt mit einem Quiz.\nTreffpunkte Region Zürich\nTreffpunkte Zug und Luzern
URL:https://www.schoeb-events.ch/event/adventure-arena-schifffahrt/
CATEGORIES:Luzern,Region Zürich,Zug
ATTACH;FMTTYPE=image/jpeg:https://www.schoeb-events.ch/wp-content/uploads/2022/11/adventure_arena.jpg
END:VEVENT
BEGIN:VEVENT
DTSTART;TZID=Europe/Zurich:20240812T080000
DTEND;TZID=Europe/Zurich:20240812T180000
DTSTAMP:20260420T114037
CREATED:20240404T193840Z
LAST-MODIFIED:20240806T155843Z
UID:10000296-1723449600-1723485600@www.schoeb-events.ch
SUMMARY:Lamatrekking\, Höri
DESCRIPTION:Wir besuchen heute den Lama Hof Meier in Höri. Du erlebst die Lamas hautnah\, darfst zu ihnen auf die Weide\, sie füttern\, streicheln und mit ihnen einen Spaziergang auf den Höriberg machen. Dabei erfährst du viel Wissenswertes über die Art\, Haltung und Pflege dieser Tiere aus Südamerika. Mittags grillieren wir auf dem Höriberg eine Wurst und haben viel Zeit zum Spielen. Am Nachmittag führen wir die Lamas zurück zum Hof und gönnen uns eine Glace.\nTreffpunkte Region Zürich\nTreffpunkte Zug und Luzern
URL:https://www.schoeb-events.ch/event/lamatrekking-hoeri/
CATEGORIES:Luzern,Region Zürich,Zug
ATTACH;FMTTYPE=image/jpeg:https://www.schoeb-events.ch/wp-content/uploads/2016/12/ferien-events-01.jpg
END:VEVENT
BEGIN:VEVENT
DTSTART;TZID=Europe/Zurich:20240813T080000
DTEND;TZID=Europe/Zurich:20240813T180000
DTSTAMP:20260420T114037
CREATED:20240404T194052Z
LAST-MODIFIED:20240811T071020Z
UID:10000297-1723536000-1723572000@www.schoeb-events.ch
SUMMARY:Connyland\, Lipperswil
DESCRIPTION:Viel Spass erwartet uns im Connyland mit seinem grossen Park an Indoor- und Outdoor-Attraktionen. Wir geniessen den Wasserspielplatz\, das Kinderkarussel und die Auto-Scooter ebenso wie die Wildwasserbahn\, Voodoo Island\, den 5D-Flugsimulator und den Mammut-Tree. Dazu gibt es tolle Live-Shows mit den Papageien und Seelöwen sowie viele Indoor-Highlights mit dem Jungle Adventure oder einer Reise in die Zeit der Dinosaurier im Dino-Attack und dem neuen Ride «Crazy Professor».\nTreffpunkte Region Zürich\nTreffpunkte Zug und Luzern
URL:https://www.schoeb-events.ch/event/connyland-lipperswil-6/
CATEGORIES:Luzern,Region Zürich,Zug
ATTACH;FMTTYPE=image/jpeg:https://www.schoeb-events.ch/wp-content/uploads/2019/11/Connyland.jpg
END:VEVENT
BEGIN:VEVENT
DTSTART;TZID=Europe/Zurich:20240813T080000
DTEND;TZID=Europe/Zurich:20240813T180000
DTSTAMP:20260420T114037
CREATED:20240404T194354Z
LAST-MODIFIED:20240807T210322Z
UID:10000298-1723536000-1723572000@www.schoeb-events.ch
SUMMARY:Flossbau\, Aegerisee
DESCRIPTION:Das wird ein ganz besonderes Abenteuer! Wir bauen unter fachkundiger Anleitung in kleinen Gruppen unser eigenes Floss und erhalten die nötigen Tipps\, damit unser Abenteuer gelingt. Nach den ersten Arbeiten können wir uns auf einen feinen Grillplausch freuen. Am Nachmittag werden die Flosse fertiggestellt und einem Sicherheitscheck unterzogen. Erst dann stechen wir in den Ägerisee und können uns auf ganz viel Spass auf dem Wasser freuen…YEAH! Alle Kinder tragen während der Flossfahrt auf dem Wasser eine Schwimmweste. Bei Schlechtwetter wird ein Alternativprogramm in einer Turnhalle angeboten.\nTreffpunkte Region Zürich\nTreffpunkte Zug und Luzern
URL:https://www.schoeb-events.ch/event/flossbau-aegerisee-2/
CATEGORIES:Luzern,Region Zürich,Zug
ATTACH;FMTTYPE=image/jpeg:https://www.schoeb-events.ch/wp-content/uploads/2023/02/flossbau.jpg
END:VEVENT
BEGIN:VEVENT
DTSTART;TZID=Europe/Zurich:20240814T080000
DTEND;TZID=Europe/Zurich:20240814T180000
DTSTAMP:20260420T114037
CREATED:20240404T194550Z
LAST-MODIFIED:20240704T174517Z
UID:10000299-1723622400-1723658400@www.schoeb-events.ch
SUMMARY:Lucy’s Pferdepark\, Goldingen
DESCRIPTION:Tauche ein in einen erlebnisreichen Tag im Pferdestall mit 40 Ponies & Pferden\, 4 neugierigen Katzen und dem liebevollen Hofhund Mozart! Wir dürfen nicht nur reiten\, sondern auch beim Putzen und Pflegen der Pferde helfen. Während dieses Tages erfahren wir viele spannende Fakten über diese majestätischen Tiere\, ihr Verhalten in der Herde und übers Reiten. Ein unvergessliches Abenteuer\, das nicht nur Spass macht\, sondern auch den respektvollen Umgang mit Pferden lehrt.\nTreffpunkte Region Zürich\nTreffpunkte Zug und Luzern
URL:https://www.schoeb-events.ch/event/lucys-pferdepark-goldingen/
CATEGORIES:Luzern,Region Zürich,Zug
ATTACH;FMTTYPE=image/jpeg:https://www.schoeb-events.ch/wp-content/uploads/2023/12/reitlager.jpg
END:VEVENT
BEGIN:VEVENT
DTSTART;TZID=Europe/Zurich:20240814T080000
DTEND;TZID=Europe/Zurich:20240814T180000
DTSTAMP:20260420T114037
CREATED:20240404T194956Z
LAST-MODIFIED:20240404T194956Z
UID:10000300-1723622400-1723658400@www.schoeb-events.ch
SUMMARY:Zauberschule mit Umberto
DESCRIPTION:Du hast die einmalige Gelegenheit\, mit dem Profizauberer UMBERTO Zauberkunststücke einzuüben\, und erhältst vier professionelle Zauberrequisiten\, die du nach dem Kurs mit nach Hause nehmen kannst. Dabei lassen wir einen Zauberstab schweben\, verwandeln zwei Bälle in ein Quadrat\, lernen einen coolen Trick mit einer Streichholzschachtel und erraten sechs verschiedene Früchte auf gewählten Karten! Natürlich präsentiert uns Zauberer UMBERTO am Schluss noch eine echte Zaubershow! Nach diesen Zaubereien geht es noch an die frische Luft auf einen Abenteuerspielplatz!\nTreffpunkte Region Zürich\nTreffpunkte Zug und Luzern
URL:https://www.schoeb-events.ch/event/zauberschule-mit-umberto/
CATEGORIES:Luzern,Region Zürich,Zug
ATTACH;FMTTYPE=image/png:https://www.schoeb-events.ch/wp-content/uploads/2024/04/zauberschule.png
END:VEVENT
BEGIN:VEVENT
DTSTART;TZID=Europe/Zurich:20240815T080000
DTEND;TZID=Europe/Zurich:20240815T180000
DTSTAMP:20260420T114037
CREATED:20240404T195302Z
LAST-MODIFIED:20240617T085438Z
UID:10000301-1723708800-1723744800@www.schoeb-events.ch
SUMMARY:Atzmännig\, Goldingen
DESCRIPTION:Der Atzmännig bietet immer jede Menge Action: Wir besuchen den Seilpark mit acht Parcours in verschiedenen Höhen und mit verschiedenen Schwierigkeitsgraden (Mindestalter: 8 Jahre). Auch die 5-7-Jährigen können ihre Geschicklichkeit auf zwei speziellen Kinderparcours testen und üben. Zu Mittag erwartet uns ein gemütlicher Spaghettiplausch im Restaurant. Am Nachmittag fahren wir mit der Sesselbahn bis zum Start der Rodelbahn\, wo wir mit der Rodel über Kurven und Tunnel ins Tal sausen. Dazu gibt es noch Trampoline\, eine Riesenschaukel und vieles mehr!\nTreffpunkte Region Zürich\nTreffpunkte Zug und Luzern
URL:https://www.schoeb-events.ch/event/atzmaennig-goldingen-4/
CATEGORIES:Luzern,Region Zürich,Zug
ATTACH;FMTTYPE=image/jpeg:https://www.schoeb-events.ch/wp-content/uploads/2019/11/atzmaennig.jpg
END:VEVENT
BEGIN:VEVENT
DTSTART;TZID=Europe/Zurich:20240815T080000
DTEND;TZID=Europe/Zurich:20240815T180000
DTSTAMP:20260420T114037
CREATED:20240404T195559Z
LAST-MODIFIED:20240404T195559Z
UID:10000302-1723708800-1723744800@www.schoeb-events.ch
SUMMARY:Rolling Rock\, Aarau
DESCRIPTION:Heute ist Action angesagt! Wir können uns im Rolling Rock Skate- & Sportcenters auf der grossen Indoor- und Outdoor-Skateanlage so richtig austoben. Wir mieten uns ein Skateboard\, Freestyle-Scooter\, Rollerblades oder ein BMX und versuchen uns auf den verschiedenen Parcours. Es sind keine Vorkenntnisse notwendig\, jeder kann seine Fahrten auf der Anlage frei wählen. Dazu warten Bouldern\, Trampoline\, Tischtennis oder Unihockey auf uns.….Action pur!\nTreffpunkte Region Zürich\nTreffpunkte Zug und Luzern
URL:https://www.schoeb-events.ch/event/rolling-rock-aarau-3/
CATEGORIES:Luzern,Region Zürich,Zug
ATTACH;FMTTYPE=image/jpeg:https://www.schoeb-events.ch/wp-content/uploads/2019/11/rolling_rock_4-scaled-e1575047371570.jpeg
END:VEVENT
BEGIN:VEVENT
DTSTART;TZID=Europe/Zurich:20240816T080000
DTEND;TZID=Europe/Zurich:20240816T180000
DTSTAMP:20260420T114037
CREATED:20240404T200316Z
LAST-MODIFIED:20240404T200445Z
UID:10000303-1723795200-1723831200@www.schoeb-events.ch
SUMMARY:Fifa Museum & Minigolf Dolder
DESCRIPTION:Am Vormittag tauchen wir in die faszinierende Welt des Fussballs ein. Bei unserem Rundgang erfahren wir spannende Geschichten über die wertvollen Trophäen\, bekannte Spieler und ihren  Trikots. Spielerisch können wir im einzigartigen begehbaren Flipper oder auf dem Spielfeld unser Fussball-Können testen und im LAB basteln und malen. Den Nachmittag verbringen wir in der Natur beim Dolder\, wo wir unsere Geschicklichkeit beim Minigolf ausprobieren.\nTreffpunkte Region Zürich\nTreffpunkte Zug und Luzern
URL:https://www.schoeb-events.ch/event/fifa-museum-minigolf-dolder/
CATEGORIES:Luzern,Region Zürich,Zug
ATTACH;FMTTYPE=image/jpeg:https://www.schoeb-events.ch/wp-content/uploads/2017/01/IMG_7487.jpg
END:VEVENT
BEGIN:VEVENT
DTSTART;TZID=Europe/Zurich:20240816T080000
DTEND;TZID=Europe/Zurich:20240816T180000
DTSTAMP:20260420T114037
CREATED:20240404T200714Z
LAST-MODIFIED:20240404T200744Z
UID:10000304-1723795200-1723831200@www.schoeb-events.ch
SUMMARY:Kunsthaus Zürich & Bowling
DESCRIPTION:Ein kreativer Vormittag erwartet uns im Kunsthaus Zürich\, wo wir mit einem Kinder-Audioguide in die Welt der Künstler und Künstlerinnen eintauchen. Jedes Kunstwerk mit einem Pinguin-Zeichen erzählt uns eine eigene Geschichte\, und wir können dabei unsere eigenen Bilder zeichnen und gestalten. Am Nachmittag geht es mit vielen bunten Kugeln zum Bowling auf Kinderbahnen.\nTreffpunkte Region Zürich\nTreffpunkte Zug und Luzern
URL:https://www.schoeb-events.ch/event/kunsthaus-zuerich-bowling-3/
CATEGORIES:Luzern,Region Zürich,Zug
ATTACH;FMTTYPE=image/webp:https://www.schoeb-events.ch/wp-content/uploads/2022/11/kunsthaus.webp
END:VEVENT
END:VCALENDAR