BEGIN:VCALENDAR
VERSION:2.0
PRODID:-//Schöb Events - ECPv6.15.17.1//NONSGML v1.0//EN
CALSCALE:GREGORIAN
METHOD:PUBLISH
X-ORIGINAL-URL:https://www.schoeb-events.ch
X-WR-CALDESC:Veranstaltungen für Schöb Events
REFRESH-INTERVAL;VALUE=DURATION:PT1H
X-Robots-Tag:noindex
X-PUBLISHED-TTL:PT1H
BEGIN:VTIMEZONE
TZID:Europe/Zurich
BEGIN:DAYLIGHT
TZOFFSETFROM:+0100
TZOFFSETTO:+0200
TZNAME:CEST
DTSTART:20230326T010000
END:DAYLIGHT
BEGIN:STANDARD
TZOFFSETFROM:+0200
TZOFFSETTO:+0100
TZNAME:CET
DTSTART:20231029T010000
END:STANDARD
BEGIN:DAYLIGHT
TZOFFSETFROM:+0100
TZOFFSETTO:+0200
TZNAME:CEST
DTSTART:20240331T010000
END:DAYLIGHT
BEGIN:STANDARD
TZOFFSETFROM:+0200
TZOFFSETTO:+0100
TZNAME:CET
DTSTART:20241027T010000
END:STANDARD
BEGIN:DAYLIGHT
TZOFFSETFROM:+0100
TZOFFSETTO:+0200
TZNAME:CEST
DTSTART:20250330T010000
END:DAYLIGHT
BEGIN:STANDARD
TZOFFSETFROM:+0200
TZOFFSETTO:+0100
TZNAME:CET
DTSTART:20251026T010000
END:STANDARD
END:VTIMEZONE
BEGIN:VEVENT
DTSTART;TZID=Europe/Zurich:20240415T080000
DTEND;TZID=Europe/Zurich:20240415T180000
DTSTAMP:20260420T175305
CREATED:20221115T174632Z
LAST-MODIFIED:20231204T090635Z
UID:10000123-1713168000-1713204000@www.schoeb-events.ch
SUMMARY:Skillspark Winterthur
DESCRIPTION:Im Skillspark in Winterthur erwartet uns ein Tag voller Action! In der riesigen Multisporthalle kann jedes Kind als Anfänger oder als Geübter die verschiedenen Parks ausprobieren: Skatepark\, Big-Air Park\, Trampolin-Park oder der Pump Track garantieren jede Menge Spass. Skateboards\, Scooters oder Like-A-Bikes stehen zur Verfügung\, wer möchte kann aber auch sein eigenes Fahrgerät mitbringen. Zum Erholen laden verschiedene Ruhezonen ein oder der Indoor-Spielplatz.
URL:https://www.schoeb-events.ch/event/skillspark-winterthur-3/
CATEGORIES:Luzern,Zug
ATTACH;FMTTYPE=image/jpeg:https://www.schoeb-events.ch/wp-content/uploads/2019/11/IMG_8407-scaled.jpg
END:VEVENT
BEGIN:VEVENT
DTSTART;TZID=Europe/Zurich:20240416T080000
DTEND;TZID=Europe/Zurich:20240416T180000
DTSTAMP:20260420T175305
CREATED:20221130T164135Z
LAST-MODIFIED:20231204T091422Z
UID:10000159-1713254400-1713290400@www.schoeb-events.ch
SUMMARY:WOW-Museum & Abenteuerspielplatz
DESCRIPTION:Das WOW-Museum wird uns so richtig ins Staunen bringen: Nichts ist so wie es scheint\, vieles steht Kopf. Bei unserem Rundgang auf drei Etagen erleben wir überraschende Sinnestäuschungen\, llusionen und neue Perspektiven. Es ist extrem spannend\, dass es oftmals kein Richtig oder Falsch gibt und dass jeder die Dinge anders sieht….WOW! Nach einem leckeren Mittagessen geht’s am Nachmittag zu einem einmaligen Abenteuerspielplatz.
URL:https://www.schoeb-events.ch/event/wow-city-rally-kulturama/
CATEGORIES:Luzern,Zug
ATTACH;FMTTYPE=image/jpeg:https://www.schoeb-events.ch/wp-content/uploads/2023/03/wow_museum_.jpg
END:VEVENT
BEGIN:VEVENT
DTSTART;TZID=Europe/Zurich:20240417T080000
DTEND;TZID=Europe/Zurich:20240417T180000
DTSTAMP:20260420T175305
CREATED:20220801T120121Z
LAST-MODIFIED:20231204T092446Z
UID:10000087-1713340800-1713376800@www.schoeb-events.ch
SUMMARY:Tierpark Goldau
DESCRIPTION:Wir nehmen uns im Tierpark Goldau viel Zeit für die Beobachtung der mehr als 100 Wildtierarten wie Wölfe und Bären. In der Freilaufzone können wir die Sikahirschen und Mufflons mit Futterwürfeln und Streicheleinheiten verwöhnen\, und wir staunen über die Kletterkünste der Steinböcke. Im gemütlichen Restaurant Gans erwartet uns ein feiner Zmittag\, damit wir anschliessend wieder genügend Energie zum Austoben auf den Spielplätzen haben.  
URL:https://www.schoeb-events.ch/event/tierpark-goldau/
CATEGORIES:Luzern,Zug
ATTACH;FMTTYPE=image/jpeg:https://www.schoeb-events.ch/wp-content/uploads/2019/11/tierpark-goldau-scaled-e1659355671604.jpeg
END:VEVENT
BEGIN:VEVENT
DTSTART;TZID=Europe/Zurich:20240418T080000
DTEND;TZID=Europe/Zurich:20240418T180000
DTSTAMP:20260420T175305
CREATED:20230628T152259Z
LAST-MODIFIED:20231204T092824Z
UID:10000193-1713427200-1713463200@www.schoeb-events.ch
SUMMARY:Technorama Winterthur
DESCRIPTION:Der Erlebnispark Technorama bietet mit seinen zahlreichen Ausstellungen\, Vorführungen und   500 Experimentierstationen einen spielerischen Zugang zu Wissen und Technik. Dabei können wir mit Beobachtungen\, Hebeln und Kurbeln Interessantes aus der Wissenschaft lernen und uns bei einer Vorstellung das Naturphänomen eines Blitzes erklären lassen. Wer Lust hat\, kann in den OpenLabs ganz speziell experimentieren oder im Park draussen die Naturwunder der 130 m langen Wunderbrücke bestaunen und durch eine Wolke spazieren. In der Sonderausstellung «Spiegeleien» können wir uns auf überraschende Aha-Erlebnisse mit lustigen Spiegelbildern freuen. 
URL:https://www.schoeb-events.ch/event/technorama-winterthur-3/
CATEGORIES:Luzern,Zug
ATTACH;FMTTYPE=image/jpeg:https://www.schoeb-events.ch/wp-content/uploads/2023/06/techno_5-scaled.jpeg
END:VEVENT
BEGIN:VEVENT
DTSTART;TZID=Europe/Zurich:20240419T080000
DTEND;TZID=Europe/Zurich:20240419T180000
DTSTAMP:20260420T175305
CREATED:20220801T121420Z
LAST-MODIFIED:20240320T175053Z
UID:10000089-1713513600-1713549600@www.schoeb-events.ch
SUMMARY:Zugerberg & Burg Zug
DESCRIPTION:Unsere Reise führt uns heute nach Zug\, wo wir mit der Zugerbergbahn in wenigen Minuten auf den Zugerberg gelangen. Oben angekommen erreichen wir nach einer kleinen Wanderung mit herrlichem Blick auf den Zugersee einen tollen Naturspielplatz. Nach einem leckeren Mittagessen geht es am Nachmittag zur Burg Zug\, wo wir mit der Comic-Figur Lili die Burganlage auf eigene Faust entdecken und in eine andere Welt eintauchen.
URL:https://www.schoeb-events.ch/event/comictrail-zugerberg-kino/
CATEGORIES:Luzern,Zug
ATTACH;FMTTYPE=image/jpeg:https://www.schoeb-events.ch/wp-content/uploads/2022/08/burg_zug_2.jpg
END:VEVENT
BEGIN:VEVENT
DTSTART;VALUE=DATE:20240422
DTEND;VALUE=DATE:20240427
DTSTAMP:20260420T175305
CREATED:20220524T192825Z
LAST-MODIFIED:20240407T085132Z
UID:10000074-1713744000-1714175999@www.schoeb-events.ch
SUMMARY:Zirkustage (8.00-18.00 Uhr)
DESCRIPTION:Die Kinder können während einer Woche Zirkusluft schnuppern und dabei verschiedene Zirkusdisziplinen ausprobieren: Bodenakrobatik\, Trapez-Übungen\, Trampolinspringen\, Jonglieren und vieles mehr! Zu Mittag wird jeweils ein warmes Mittagessen serviert und im Zirkus-Küchenwagen warten feine Snacks. Die erlernten Künste können die Kinder am Ende der Woche bei einer Aufführung vorstellen!\n\nDas Betreuungsteam von Schöb Events bringt die Kinder (5 – 13 Jahre) am Morgen zum Zirkus Filacro\, wo sie von ausgebildeten Zirkus-Artisten im Zirkus in Nänikon betreut werden. Abends werden die Kinder wieder von Betreuer/innen von Schöb Events vom Zirkus Filacro zu den Treffpunkten gebracht.\n\nDie Zirkustage finden von Montag bis Freitag statt und müssen alle fünf Tage gebucht werden. Die Kinder können zu den Auffangorten in Zürich\, Bubikon\, Zug oder Luzern gebracht werden.\nTreffpunkte Region Zürich\nTreffpunkte Zug und Luzern
URL:https://www.schoeb-events.ch/event/zirkustage-8-00-18-00-uhr/
CATEGORIES:Luzern,Region Zürich,Zug
ATTACH;FMTTYPE=image/jpeg:https://www.schoeb-events.ch/wp-content/uploads/2019/11/IMG_0261-scaled.jpg
END:VEVENT
BEGIN:VEVENT
DTSTART;VALUE=DATE:20240422
DTEND;VALUE=DATE:20240427
DTSTAMP:20260420T175305
CREATED:20220524T193542Z
LAST-MODIFIED:20240407T085000Z
UID:10000075-1713744000-1714175999@www.schoeb-events.ch
SUMMARY:Zirkustage (9.30-16.00 Uhr)
DESCRIPTION:Die Kinder können während einer Woche Zirkusluft schnuppern und dabei verschiedene Zirkusdisziplinen ausprobieren: Bodenakrobatik\, Trapez-Übungen\, Trampolinspringen\, Jonglieren und vieles mehr! Zu Mittag wird jeweils ein warmes Mittagessen serviert und im Zirkus-Küchenwagen warten feine Snacks. Die erlernten Künste können die Kinder am Ende der Woche bei einer Aufführung vorstellen!\n\nDie Kinder (5 – 13 Jahre) müssen morgens von den Eltern um 9.30 Uhr zum Zirkus Filacro nach Nänikon gebracht werden\, wo sie von ausgebildeten Zirkus-Artisten betreut werden. Abends müssen die Kinder wieder um 16.00 Uhr beim Zirkus Filacro abgeholt werden. Die Zirkustage finden von Montag bis Freitag statt und müssen alle fünf Tage gebucht werden.
URL:https://www.schoeb-events.ch/event/zirkustage-9-30-16-00-uhr/
CATEGORIES:Luzern,Region Zürich,Zug
ATTACH;FMTTYPE=image/jpeg:https://www.schoeb-events.ch/wp-content/uploads/2020/11/zirkus.jpeg
END:VEVENT
BEGIN:VEVENT
DTSTART;TZID=Europe/Zurich:20240422T080000
DTEND;TZID=Europe/Zurich:20240422T180000
DTSTAMP:20260420T175305
CREATED:20221130T171541Z
LAST-MODIFIED:20240417T210333Z
UID:10000098-1713772800-1713808800@www.schoeb-events.ch
SUMMARY:Nordic Camp & Bächlihof
DESCRIPTION:Am Vormittag besuchen wir die Schlittenhunde im Nordic Camp von Fischer Adventures. Ein Musher erklärt uns viel Interessantes über die Pflege und Haltung von Alaskan Malamuten und Siberian Huskys sowie über die Arbeit mit den Schlittenhunden. Ausgerüstet mit einem speziellen Hüftgurt unternehmen wir einen Spaziergang mit diesen faszinierenden Tieren. Nach einem feinen Zmittag geht’s am Nachmittag zum Erlebnisbauernhof Bächlihof. Wir geniessen den Naturspielplatz\, den Geisslipark und einen hausgemachten Zvieri vom Hof.\nTreffpunkte Region Zürich\nTreffpunkte Zug und Luzern
URL:https://www.schoeb-events.ch/event/nordic-camp-baechlihof-2/
CATEGORIES:Luzern,Region Zürich,Zug
ATTACH;FMTTYPE=image/jpeg:https://www.schoeb-events.ch/wp-content/uploads/2022/11/husky.jpg
END:VEVENT
BEGIN:VEVENT
DTSTART;TZID=Europe/Zurich:20240423T080000
DTEND;TZID=Europe/Zurich:20240423T180000
DTSTAMP:20260420T175305
CREATED:20230219T065317Z
LAST-MODIFIED:20240403T100702Z
UID:10000187-1713859200-1713895200@www.schoeb-events.ch
SUMMARY:Bogenschiessen im Ritterhaus Bubikon
DESCRIPTION:Wir tauchen im Ritterhaus in Bubikon in das Mittelalter ein! Am Vormittag werden die grössern Kinder ab 8 Jahren in die Kunst des Bogenschiessens eingeführt. Sie erhalten Tipps\, wie man mit Präzision\, Technik und Übung den richtigen Umgang mit Pfeil und Bogen hat. Nach den ersten Anleitungen zum Bogenschiessen haben alle genügend Zeit zum Üben für die anschliessenden Spiele mit Pfeil und Bogen sowie für ein kleines Turnier. Die kleineren Kinder (5-7 Jahre) basteln im Ritterhaus einen Ritterhelm und ein Schild und üben mit einem Ballonschwert für ihr Ritterturnier. Am Nachmittag erkunden wir die alten Gemäuer des Ritterhaus bei einem Rundgang und erfahren Interessantes über das Reisen in früheren Zeiten.\nTreffpunkte Region Zürich\nTreffpunkte Zug und Luzern
URL:https://www.schoeb-events.ch/event/bogenschiessen-im-ritterhaus-bubikon/
CATEGORIES:Luzern,Region Zürich,Zug
ATTACH;FMTTYPE=image/jpeg:https://www.schoeb-events.ch/wp-content/uploads/2023/02/bogenschiessen.jpg
END:VEVENT
BEGIN:VEVENT
DTSTART;TZID=Europe/Zurich:20240424T080000
DTEND;TZID=Europe/Zurich:20240424T180000
DTSTAMP:20260420T175305
CREATED:20221130T194224Z
LAST-MODIFIED:20240403T100818Z
UID:10000112-1713945600-1713981600@www.schoeb-events.ch
SUMMARY:Adventure Arena & Uetliberg
DESCRIPTION:Action & Fun ist angesagt! In den Spielwelten der Adventure Arena in Dübendorf tauchen wir in kleinen Gruppen in verschiedene Erlebnisräume ein und können mit Geschicklichkeit und Teamwork einmalige Abenteuer-Missionen erleben und deren Rätsel lösen. Die Aufgaben in den einzelnen Adventure Rooms können frei gewählt werden oder auch mehrmals gelöst werden. Am Nachmittag fahren wir mit der Bahn auf den Uetliberg\, wo wir nach einem kurzen Spaziergang eine tolle Aussicht auf die Stadt Zürich und den Zürichsee geniessen. Danach geht’s zum Wald-Spielplatz.\nTreffpunkte Region Zürich\nTreffpunkte Zug und Luzern
URL:https://www.schoeb-events.ch/event/adventure-arena-landesmuseum-2/
CATEGORIES:Luzern,Region Zürich,Zug
ATTACH;FMTTYPE=image/jpeg:https://www.schoeb-events.ch/wp-content/uploads/2022/11/adventure_arena-1.jpg
END:VEVENT
BEGIN:VEVENT
DTSTART;TZID=Europe/Zurich:20240425T080000
DTEND;TZID=Europe/Zurich:20240425T180000
DTSTAMP:20260420T175305
CREATED:20220620T130249Z
LAST-MODIFIED:20240423T065014Z
UID:10000078-1714032000-1714068000@www.schoeb-events.ch
SUMMARY:Lindt Home of Chocolate & Indoor-Minigolf
DESCRIPTION:Heute besuchen wir die Schokoladenwelt von Lindt Home of Chocolate! Als Auftakt wird uns bereits der spektakuläre Schokoladenbrunnen ins Staunen versetzen. Denn hier fliessen nicht weniger als 1500 kg Schokolade aus 9 Meter Höhe in die Tiefe. Bei unserer Schokoladentour erleben wir die Schoggiwelt mit allen Sinnen: von der Entstehung bis zum Schokoladen-Tasting à discrétion….mmh! Nach einem leckeren Mittagessen spielen wir am Nachmittag eine Runde Minigolf in einer Indoor-Anlage.\nTreffpunkte Region Zürich\nTreffpunkte Zug und Luzern
URL:https://www.schoeb-events.ch/event/lindt-home-of-chocolate-tierpark-langenberg/
CATEGORIES:Luzern,Region Zürich,Zug
ATTACH;FMTTYPE=image/jpeg:https://www.schoeb-events.ch/wp-content/uploads/2020/11/lindt.jpg
END:VEVENT
BEGIN:VEVENT
DTSTART;TZID=Europe/Zurich:20240426T080000
DTEND;TZID=Europe/Zurich:20240426T180000
DTSTAMP:20260420T175305
CREATED:20230214T211248Z
LAST-MODIFIED:20240403T101121Z
UID:10000182-1714118400-1714154400@www.schoeb-events.ch
SUMMARY:Zoologisches Museum & Flip Lab
DESCRIPTION:Den Vormittag verbringen wir im Zoologischen Museum in Zürich mit 1500 Tierarten. Dabei werden wir zum Tierdetektiv und können bei den Aktivitätstischen und Forscherkisten viel Spannendes entdecken. Auch die Schatzkammer mit 50 Fossilien wird uns ins Staunen versetzen. Am Nachmittag geht es voller Action ins Flip Lab\, wo du dich auf den verschiedensten Fun Parcours so richtig austoben kannst: Trampoline\, Air-Bags\, Basketball-Trampolin und Ninja Parcours!\nTreffpunkte Region Zürich\nTreffpunkte Zug und Luzern
URL:https://www.schoeb-events.ch/event/zoologisches-museum-flip-lab/
CATEGORIES:Luzern,Region Zürich,Zug
ATTACH;FMTTYPE=image/jpeg:https://www.schoeb-events.ch/wp-content/uploads/2020/11/fliplab-e1651907206808.jpg
END:VEVENT
BEGIN:VEVENT
DTSTART;TZID=Europe/Zurich:20240429T080000
DTEND;TZID=Europe/Zurich:20240429T180000
DTSTAMP:20260420T175305
CREATED:20221116T191900Z
LAST-MODIFIED:20240428T090124Z
UID:10000144-1714377600-1714413600@www.schoeb-events.ch
SUMMARY:Skillspark Winterthur
DESCRIPTION:Heute erleben wir einen Tag voller Action im Skillspark in Winterthur. In der riesigen Multisporthalle kann jedes Kind als Anfänger oder als Geübter die verschiedenen Parks ausprobieren: Skatepark\, Big-Air Park\, Trampolin-Park oder der Pump Track garantieren jede Menge Spass. Skateboards\, Scooters oder Like-A-Bikes stehen zur Verfügung\, wer möchte kann aber auch sein eigenes Fahrgerät mitbringen. Zum Erholen laden verschiedene Ruhezonen ein oder der Indoor-Spielplatz.\nTreffpunkte Region Zürich\nTreffpunkte Zug und Luzern
URL:https://www.schoeb-events.ch/event/skillspark-winterthur-4/
CATEGORIES:Luzern,Region Zürich,Zug
ATTACH;FMTTYPE=image/jpeg:https://www.schoeb-events.ch/wp-content/uploads/2019/11/IMG_8407-scaled.jpg
END:VEVENT
BEGIN:VEVENT
DTSTART;TZID=Europe/Zurich:20240429T080000
DTEND;TZID=Europe/Zurich:20240503T180000
DTSTAMP:20260420T175305
CREATED:20231205T181209Z
LAST-MODIFIED:20231205T193339Z
UID:10000234-1714377600-1714759200@www.schoeb-events.ch
SUMMARY:Reitlager (8.00-18.00 Uhr)
DESCRIPTION:Während vier Tagen erleben die Kinder Pferde und Natur und lernen intensiv\, wie die Pferde und Ponys leben und was diese zur Pflege brauchen. Mit viel Spaß und nach pädagogischen Konzepten wird gezeigt\, wie ein Pferd geführt wird und wie pferdegerechtes Reiten funktioniert. Highlights der Ferienwoche sind sicher das Reiten ohne Sattel und das Kennenlernen der Pferde und Ponies im wunderschönen\, pferdegerechten Offenstall.\n\nDas Betreuungsteam von Schöb Events bringt die Kinder (5 – 13 Jahre) am Morgen zu Lucy’s Pferdepark nach Goldingen\, wo sie von ausgebildeten Reitlehrer/innen betreut werden. Abends werden die Kinder wieder von den Betreuer/innen von Schöb Events vom Pferdehof zu den Treffpunkten gebracht.\n\nDas Reitlager findet am Montag\, Dienstag\, Donnerstag und Freitag statt (ohne 1. Mai) und muss für alle vier Tage gebucht werden. Die Kinder können zu unseren Treffpunkten in der Region Zürich gebracht werden.\nTreffpunkte Region Zürich\n 
URL:https://www.schoeb-events.ch/event/reitlager-8-00-18-00-uhr/
CATEGORIES:Region Zürich
ATTACH;FMTTYPE=image/jpeg:https://www.schoeb-events.ch/wp-content/uploads/2023/12/reitlager_2.jpg
END:VEVENT
BEGIN:VEVENT
DTSTART;TZID=Europe/Zurich:20240429T080000
DTEND;TZID=Europe/Zurich:20240503T180000
DTSTAMP:20260420T175305
CREATED:20231205T184224Z
LAST-MODIFIED:20240403T101523Z
UID:10000236-1714377600-1714759200@www.schoeb-events.ch
SUMMARY:Reitlager (10.15-15.30 Uhr)
DESCRIPTION:Während vier Tagen erleben die Kinder Pferde und Natur und lernen intensiv\, wie die Pferde und Ponys leben und was diese zur Pflege brauchen. Mit viel Spaß und nach pädagogischen Konzepten wird gezeigt\, wie ein Pferd geführt wird und wie pferdegerechtes Reiten funktioniert. Highlights der Ferienwoche sind sicher das Reiten ohne Sattel und das Kennenlernen der Pferde und Ponies im wunderschönen\, pferdegerechten Offenstall.\n\nDie Kinder (5 – 13 Jahre) müssen morgens von den Eltern um 10.15 Uhr zu Lucy’s Pferdepark nach Goldingen gebracht werden. Am Nachmittag müssen die Kinder wieder um 15.30 Uhr bei Lucy’s Pferdepark abgeholt werden. Das Reitlager findet am Montag\, Dienstag\, Donnerstag und Freitag statt (ohne 1. Mai) und muss für alle vier Tage gebucht werden.\n\n \n\n 
URL:https://www.schoeb-events.ch/event/reitlager-10-15-15-30-uhr/
CATEGORIES:Region Zürich
ATTACH;FMTTYPE=image/jpeg:https://www.schoeb-events.ch/wp-content/uploads/2023/12/reitlager.jpg
END:VEVENT
BEGIN:VEVENT
DTSTART;TZID=Europe/Zurich:20240430T080000
DTEND;TZID=Europe/Zurich:20240430T180000
DTSTAMP:20260420T175305
CREATED:20221130T162740Z
LAST-MODIFIED:20240428T090238Z
UID:10000154-1714464000-1714500000@www.schoeb-events.ch
SUMMARY:Nordic Camp & Bächlihof
DESCRIPTION:Heute besuchen wir die Schlittenhunde im Nordic Camp von Fischer Adventures. Ein Musher erklärt uns viel Interessantes über die Pflege und Haltung von Alaskan Malamuten und Siberian Huskys sowie über die Arbeit mit den Schlittenhunden. Ausgerüstet mit einem speziellen Hüftgurt unternehmen wir einen Spaziergang mit diesen faszinierenden Tieren. Nach einem feinen Zmittag geht’s am Nachmittag zum Erlebnisbauernhof Bächlihof. Wir geniessen den Naturspielplatz\, den Geisslipark und einen hausgemachten Zvieri vom Hof.\nTreffpunkte Region Zürich
URL:https://www.schoeb-events.ch/event/nordic-camp-baechlihof/
CATEGORIES:Region Zürich
ATTACH;FMTTYPE=image/jpeg:https://www.schoeb-events.ch/wp-content/uploads/2022/11/husky.jpg
END:VEVENT
BEGIN:VEVENT
DTSTART;TZID=Europe/Zurich:20240430T080000
DTEND;TZID=Europe/Zurich:20240430T180000
DTSTAMP:20260420T175305
CREATED:20231201T151615Z
LAST-MODIFIED:20240428T090359Z
UID:10000232-1714464000-1714500000@www.schoeb-events.ch
SUMMARY:Waldtag mit Outdoor-Küche
DESCRIPTION:Das wird ein richtiger Natur-Erlebnistag! Im Wald in der Nähe des Uetlibergs werden wir zuerst in die Kunst des Schnitzens mit einem Taschenmesser eingeführt. Nach dem Lernen der korrekten Handhabung folgt ein gemeinsames Schnitzprojekt. Anschliessend kochen wir verschiedenste Gerichte über dem Feuer und können uns auf ein feines Mittagessen freuen. Highlight wird bestimmt das Backen eines Kuchens über dem Feuer…mhhh! Den Nachmittag lassen wir mit coolen Waldspielen ausklingen.\n\nTreffpunkte Region Zürich\n\n\n\n\n Zum Kalender hinzufügen
URL:https://www.schoeb-events.ch/event/waldtag-mit-outdoor-kueche/
CATEGORIES:Region Zürich
ATTACH;FMTTYPE=image/jpeg:https://www.schoeb-events.ch/wp-content/uploads/2023/12/outdoor_kueche.jpg
END:VEVENT
END:VCALENDAR