BEGIN:VCALENDAR
VERSION:2.0
PRODID:-//Schöb Events - ECPv6.15.17.1//NONSGML v1.0//EN
CALSCALE:GREGORIAN
METHOD:PUBLISH
X-WR-CALNAME:Schöb Events
X-ORIGINAL-URL:https://www.schoeb-events.ch
X-WR-CALDESC:Veranstaltungen für Schöb Events
REFRESH-INTERVAL;VALUE=DURATION:PT1H
X-Robots-Tag:noindex
X-PUBLISHED-TTL:PT1H
BEGIN:VTIMEZONE
TZID:Europe/Zurich
BEGIN:DAYLIGHT
TZOFFSETFROM:+0100
TZOFFSETTO:+0200
TZNAME:CEST
DTSTART:20230326T010000
END:DAYLIGHT
BEGIN:STANDARD
TZOFFSETFROM:+0200
TZOFFSETTO:+0100
TZNAME:CET
DTSTART:20231029T010000
END:STANDARD
BEGIN:DAYLIGHT
TZOFFSETFROM:+0100
TZOFFSETTO:+0200
TZNAME:CEST
DTSTART:20240331T010000
END:DAYLIGHT
BEGIN:STANDARD
TZOFFSETFROM:+0200
TZOFFSETTO:+0100
TZNAME:CET
DTSTART:20241027T010000
END:STANDARD
BEGIN:DAYLIGHT
TZOFFSETFROM:+0100
TZOFFSETTO:+0200
TZNAME:CEST
DTSTART:20250330T010000
END:DAYLIGHT
BEGIN:STANDARD
TZOFFSETFROM:+0200
TZOFFSETTO:+0100
TZNAME:CET
DTSTART:20251026T010000
END:STANDARD
END:VTIMEZONE
BEGIN:VEVENT
DTSTART;TZID=Europe/Zurich:20240103T080000
DTEND;TZID=Europe/Zurich:20240103T180000
DTSTAMP:20260420T215907
CREATED:20231004T170700Z
LAST-MODIFIED:20231211T165204Z
UID:10000202-1704268800-1704304800@www.schoeb-events.ch
SUMMARY:Landesmuseum & BounceLab
DESCRIPTION:Am Vormittag besuchen wir die Familienausstellung des Landesmuseums. Dort werden wir mit dem fliegenden Teppich durch die Geschichte reisen und dabei spannende Geschichten und Rätsel zum Orient\, zur Schifffahrt und zur Eisenbahn hören. Lustig und kreativ wird’s beim Verkleiden zum Piraten oder zu einer Prinzessin oder beim Malen und Basteln im kleinen Atelier. Am Nachmittag können wir uns auf die Trampolinhalle Bounce Lab in Rüti freuen. Viele unterschiedliche Trampoline laden zum Springen und Fliegen ein! Dazu gibt’s Drehfussball\, Tischtennis und ein Riesenschwingtuch.\nTreffpunkte Region Zürich\nTreffpunkte Zug und Luzern
URL:https://www.schoeb-events.ch/event/landesmuseum-bouncelab/
CATEGORIES:Luzern,Region Zürich,Zug
ATTACH;FMTTYPE=image/jpeg:https://www.schoeb-events.ch/wp-content/uploads/2019/11/IMG_2156-scaled.jpg
END:VEVENT
BEGIN:VEVENT
DTSTART;TZID=Europe/Zurich:20240104T080000
DTEND;TZID=Europe/Zurich:20240104T180000
DTSTAMP:20260420T215907
CREATED:20231004T171410Z
LAST-MODIFIED:20231218T144921Z
UID:10000203-1704355200-1704391200@www.schoeb-events.ch
SUMMARY:Dolder Kunsteisbahn & Mühlerama
DESCRIPTION:Wir versuchen uns heute im Schlittschuhfahren auf der Dolder Kunsteisbahn und ziehen unsere Runden….mit oder ohne Eisbär. Anfänger können das Eis auch sitzend auf einem Rutscherli (Stuhl mit Kufen) geniessen. Bei Schlechtwetter geht’s in die Kunsteishalle nach Wetzikon. Jedes Kind kann seine eigenen Schlittschuhe mitbringen\, oder wir mieten sie. Nach einem feinen Zmittag geht’s am Nachmittag ins Mühlerama\, wo wir mit einer Mehlbürste an verschiedenen Stationen die Geschichte der historischen Mühle erfahren. In der Werkstatt können wir aus Getreidekörnern unser eigenes Mehl mahlen und von einem echten Müller die Getreidemühle erklären lassen. Am Schluss können wir die Getreide-Rutschbahn runtersausen!\nTreffpunkte Region Zürich\nTreffpunkte Zug und Luzern
URL:https://www.schoeb-events.ch/event/dolder-kunsteisbahn-muehlerama-2/
CATEGORIES:Luzern,Region Zürich,Zug
ATTACH;FMTTYPE=image/jpeg:https://www.schoeb-events.ch/wp-content/uploads/2020/11/schlittschuhfahren-scaled.jpg
END:VEVENT
BEGIN:VEVENT
DTSTART;TZID=Europe/Zurich:20240105T080000
DTEND;TZID=Europe/Zurich:20240105T180000
DTSTAMP:20260420T215907
CREATED:20231004T172101Z
LAST-MODIFIED:20231218T145102Z
UID:10000204-1704441600-1704477600@www.schoeb-events.ch
SUMMARY:Zürich Zoo
DESCRIPTION:Im Zürich Zoo gibt es immer etwas Neues zu entdecken! Wir besuchen den Masoala Regenwald\, den Elefantenpark\, die Pinguin-Innenanlage im Aquarium mit 8 Unterwasserwelten und natürlich auch die grösste Anlage des Zürich Zoos: die Lewa Savanne. Dort können wir neben den Giraffen\, Nashörnern und Zebras auch die geheimnisvollen Baobab-Futterbäume bestaunen. Und im neuen Naturschutzzentrum können wir im 360°-Kino die aktuellen Naturschutzprojekte des Zürich Zoos in Kenia\, in der Antarktis und in Thailand hautnah erleben.\nTreffpunkte Region Zürich\nTreffpunkte Zug und Luzern
URL:https://www.schoeb-events.ch/event/zuerich-zoo-3/
CATEGORIES:Luzern,Region Zürich,Zug
ATTACH;FMTTYPE=image/jpeg:https://www.schoeb-events.ch/wp-content/uploads/2022/11/zoo_zuerich.jpg
END:VEVENT
END:VCALENDAR