BEGIN:VCALENDAR
VERSION:2.0
PRODID:-//Schöb Events - ECPv6.15.17.1//NONSGML v1.0//EN
CALSCALE:GREGORIAN
METHOD:PUBLISH
X-ORIGINAL-URL:https://www.schoeb-events.ch
X-WR-CALDESC:Veranstaltungen für Schöb Events
REFRESH-INTERVAL;VALUE=DURATION:PT1H
X-Robots-Tag:noindex
X-PUBLISHED-TTL:PT1H
BEGIN:VTIMEZONE
TZID:Europe/Zurich
BEGIN:DAYLIGHT
TZOFFSETFROM:+0100
TZOFFSETTO:+0200
TZNAME:CEST
DTSTART:20220327T010000
END:DAYLIGHT
BEGIN:STANDARD
TZOFFSETFROM:+0200
TZOFFSETTO:+0100
TZNAME:CET
DTSTART:20221030T010000
END:STANDARD
BEGIN:DAYLIGHT
TZOFFSETFROM:+0100
TZOFFSETTO:+0200
TZNAME:CEST
DTSTART:20230326T010000
END:DAYLIGHT
BEGIN:STANDARD
TZOFFSETFROM:+0200
TZOFFSETTO:+0100
TZNAME:CET
DTSTART:20231029T010000
END:STANDARD
BEGIN:DAYLIGHT
TZOFFSETFROM:+0100
TZOFFSETTO:+0200
TZNAME:CEST
DTSTART:20240331T010000
END:DAYLIGHT
BEGIN:STANDARD
TZOFFSETFROM:+0200
TZOFFSETTO:+0100
TZNAME:CET
DTSTART:20241027T010000
END:STANDARD
END:VTIMEZONE
BEGIN:VEVENT
DTSTART;TZID=Europe/Zurich:20230713T080000
DTEND;TZID=Europe/Zurich:20230713T180000
DTSTAMP:20260421T080301
CREATED:20220329T100423Z
LAST-MODIFIED:20230712T153324Z
UID:10000001-1689235200-1689271200@www.schoeb-events.ch
SUMMARY:Tierpark Goldau
DESCRIPTION:Wir nehmen uns im Tierpark Goldau viel Zeit für die Beobachtung der mehr als 100 Wildtierarten wie Wölfe und Bären. In der Freilaufzone können wir die Sikahirschen und Mufflons mit Futterwürfeln und Streicheleinheiten verwöhnen\, und wir staunen über die Kletterkünste der Steinböcke. Im gemütlichen Restaurant Gans erwartet uns ein feiner Zmittag\, damit wir anschliessend wieder genügend Energie zum Austoben auf den Spielplätzen haben.\nTreffpunkte Zug und Luzern
URL:https://www.schoeb-events.ch/event/tierpark-goldau-2/
CATEGORIES:Luzern,Zug
ATTACH;FMTTYPE=image/jpeg:https://www.schoeb-events.ch/wp-content/uploads/2020/03/tierpark-goldau-scaled-e1651769165308.jpeg
END:VEVENT
BEGIN:VEVENT
DTSTART;TZID=Europe/Zurich:20230714T080000
DTEND;TZID=Europe/Zurich:20230714T180000
DTSTAMP:20260421T080301
CREATED:20221130T195123Z
LAST-MODIFIED:20230709T142945Z
UID:10000160-1689321600-1689357600@www.schoeb-events.ch
SUMMARY:Glasi Hergiswil
DESCRIPTION:Heute geht’s zur Glasi Hergiswil\, wo wir das Museum „vom Feuer geformt“ besuchen und die Geschichte des Glases bei einer einzigartigen Ton- und Lichtshow kennenlernen. Wir dürfen den Glasbläsern bei der Arbeit zusehen\, wie sie aus der glühenden Masse Gläser formen\, blasen und giessen. Auch das Glaslabyrinth wird uns verzaubern sowie die Glas-Wasser-Spiele im Freien. Auf dem Spielplatz können wir uns auf die Rutsche der 7 Meter hohen Murmelbahn freuen!
URL:https://www.schoeb-events.ch/event/glasi-hergiswil-3/
CATEGORIES:Luzern,Zug
ATTACH;FMTTYPE=image/jpeg:https://www.schoeb-events.ch/wp-content/uploads/2022/03/glasi-scaled.jpeg
END:VEVENT
BEGIN:VEVENT
DTSTART;TZID=Europe/Zurich:20230717T080000
DTEND;TZID=Europe/Zurich:20230717T180000
DTSTAMP:20260421T080301
CREATED:20220330T172422Z
LAST-MODIFIED:20230710T213921Z
UID:10000061-1689580800-1689616800@www.schoeb-events.ch
SUMMARY:Lamatrekking auf den Höriberg
DESCRIPTION:Wir besuchen heute den Lama Hof Meier in Höri. Du erlebst die Lamas hautnah\, darfst zu ihnen auf die Weide\, sie füttern\, streicheln und mit ihnen einen Spaziergang auf den Höriberg machen. Dabei erfährst du viel Wissenswertes über die Art\, Haltung und Pflege dieser Tiere aus Südamerika. Mittags grillieren wir auf dem Höriberg eine Wurst und haben viel Zeit zum Spielen. Am Nachmittag führen wir die Lamas zurück zum Hof und gönnen uns eine Glace.\nTreffpunkte Region Zürich\nTreffpunkte Zug und Luzern
URL:https://www.schoeb-events.ch/event/lamatrekking-auf-den-hoeriberg/
CATEGORIES:Luzern,Region Zürich,Zug
ATTACH;FMTTYPE=image/jpeg:https://www.schoeb-events.ch/wp-content/uploads/2016/12/ferien-events-01.jpg
END:VEVENT
BEGIN:VEVENT
DTSTART;TZID=Europe/Zurich:20230717T080000
DTEND;TZID=Europe/Zurich:20230717T180000
DTSTAMP:20260421T080301
CREATED:20221116T191508Z
LAST-MODIFIED:20230713T095050Z
UID:10000143-1689580800-1689616800@www.schoeb-events.ch
SUMMARY:Lindt Home of Chocolate & Tierpark Langenberg
DESCRIPTION:Heute besuchen wir die Schokoladenwelt von Lindt Home of Chocolate! Als Auftakt wird uns bereits der spektakuläre Schokoladenbrunnen ins Staunen versetzen. Denn hier fliessen nicht weniger als 1500 kg Schokolade aus 9 Meter Höhe in die Tiefe. Bei unserer Schokoladentour erleben wir die Schoggiwelt mit allen Sinnen: von der Entstehung bis zum Schokoladen-Tasting à discrétion….mmh! Den Nachmittag verbringen wir draussen im Tierpark Langenberg.\nTreffpunkte Region Zürich\nTreffpunkte Zug und Luzern
URL:https://www.schoeb-events.ch/event/lindt-home-of-chocolate-flip-lab-2/
CATEGORIES:Luzern,Region Zürich,Zug
ATTACH;FMTTYPE=image/jpeg:https://www.schoeb-events.ch/wp-content/uploads/2020/11/lindt.jpg
END:VEVENT
BEGIN:VEVENT
DTSTART;TZID=Europe/Zurich:20230718T080000
DTEND;TZID=Europe/Zurich:20230718T180000
DTSTAMP:20260421T080301
CREATED:20220330T160347Z
LAST-MODIFIED:20230713T100916Z
UID:10000032-1689667200-1689703200@www.schoeb-events.ch
SUMMARY:Spielparadies Sattel-Hochstuckli
DESCRIPTION:Wir reisen in die Wanderregion von Sattel-Hochstuckli und lassen uns mit der einzigartigen Drehgondelbahn auf den Mostelberg bringen. Dort erwartet uns jede Menge Spass mit der Sommerrodelbahn\, einer Tubingbahn\, eine Riesenhüpfburg und vieles mehr! Auch die Hängebrücke wird uns sehr beeindrucken\, sie ist nämlich mit 374 Meter Länge die längste Fussgängerhängebrücke Europas. Nach einer kleinen Wanderung erwartet uns ein feiner Zmittag in einem Bergrestaurant und hausgemachtes Glacé! Am Nachmittag endet unsere Rundwanderung wieder im Spielparadies des Mostelbergs.\nTreffpunkte Region Zürich\nTreffpunkte Zug und Luzern
URL:https://www.schoeb-events.ch/event/spielparadies-sattel-hochstuckli/
CATEGORIES:Luzern,Region Zürich,Zug
ATTACH;FMTTYPE=image/jpeg:https://www.schoeb-events.ch/wp-content/uploads/2022/03/sattel.jpg
END:VEVENT
BEGIN:VEVENT
DTSTART;TZID=Europe/Zurich:20230718T080000
DTEND;TZID=Europe/Zurich:20230718T180000
DTSTAMP:20260421T080301
CREATED:20230213T175425Z
LAST-MODIFIED:20230714T114351Z
UID:10000173-1689667200-1689703200@www.schoeb-events.ch
SUMMARY:Steiner Beck & Minigolf
DESCRIPTION:Heute schauen wir hinter die Kulissen der Bäckerei & Konditorei von Steiner Beck. Bei einem Rundgang bekommen wir einen Einblick in das Handwerk der Bäcker und Konditor. Anschliessend dürfen wir selber Hand anlegen und unseren eigenen Zopfteig verarbeiten. Auch den Zvieri kreieren wir gleich selbst: einen Nussgipfel oder ein Himbeertörtli…mmh! Anschliessend fahren wir ins Milandia zum Mittagessen und spielen eine Runde Minigolf und geniessen den Spielplatz.\nTreffpunkte Region Zürich\nTreffpunkte Zug und Luzern
URL:https://www.schoeb-events.ch/event/steiner-beck-minigolf/
CATEGORIES:Luzern,Region Zürich,Zug
ATTACH;FMTTYPE=image/jpeg:https://www.schoeb-events.ch/wp-content/uploads/2023/02/Steiner-scaled.jpg
END:VEVENT
BEGIN:VEVENT
DTSTART;TZID=Europe/Zurich:20230719T080000
DTEND;TZID=Europe/Zurich:20230719T180000
DTSTAMP:20260421T080301
CREATED:20220801T121018Z
LAST-MODIFIED:20230717T115822Z
UID:10000088-1689753600-1689789600@www.schoeb-events.ch
SUMMARY:Rolling Rock
DESCRIPTION:Heute ist Action angesagt! Wir können uns im Rolling Rock Skate- & Sportcenters auf der grossen Indoor- und Outdoor-Skateanlage so richtig austoben. Wir mieten uns ein Skateboard\, Freestyle-Scooter\, Rollerblades oder ein BMX und versuchen uns auf den verschiedenen Parcours. Es sind keine Vorkenntnisse notwendig\, jeder kann seine Fahrten auf der Anlage frei wählen. Dazu warten Bouldern\, Trampoline\, Tischtennis oder Unihockey auf uns.….Action pur!\nTreffpunkte Region Zürich\nTreffpunkte Zug und Luzern
URL:https://www.schoeb-events.ch/event/rolling-rock/
CATEGORIES:Luzern,Region Zürich,Zug
ATTACH;FMTTYPE=image/jpeg:https://www.schoeb-events.ch/wp-content/uploads/2019/11/rolling-rock_4-scaled.jpeg
END:VEVENT
BEGIN:VEVENT
DTSTART;TZID=Europe/Zurich:20230719T080000
DTEND;TZID=Europe/Zurich:20230719T180000
DTSTAMP:20260421T080301
CREATED:20221031T164608Z
LAST-MODIFIED:20230608T144447Z
UID:10000097-1689753600-1689789600@www.schoeb-events.ch
SUMMARY:Bergwerk Käpfnach & Minigolf Dolder
DESCRIPTION:Am Vormittag besuchen wir das Bergwerk Käpfnach in Horgen\, wo wir mit einem Bergwerkführer zuerst das Bergbaumuseum besichtigen und anschliessend mit der Stollenbahn das 1\,4 km lange Stollennetz erkunden. So erleben wir eindrücklich\, wie die Bergwerksarbeiter auf der Suche nach dem schwarzen Gold Schwerstarbeit verrichten mussten. Den Nachmittag verbringen wir in der Natur beim Dolder\, wo wir unsere Geschicklichkeit beim Minigolf ausprobieren.\nTreffpunkte Region Zürich\nTreffpunkte Zug und Luzern
URL:https://www.schoeb-events.ch/event/bergwerk-kaepfnach-muehlerama/
CATEGORIES:Luzern,Region Zürich,Zug
ATTACH;FMTTYPE=image/jpeg:https://www.schoeb-events.ch/wp-content/uploads/2022/10/bergwerk-e1667234680761.jpg
END:VEVENT
BEGIN:VEVENT
DTSTART;TZID=Europe/Zurich:20230720T080000
DTEND;TZID=Europe/Zurich:20230720T180000
DTSTAMP:20260421T080301
CREATED:20220330T172838Z
LAST-MODIFIED:20230710T214358Z
UID:10000064-1689840000-1689876000@www.schoeb-events.ch
SUMMARY:Connyland\, Lipperswil
DESCRIPTION:Viel Spass erwartet uns im Connyland mit seinem grossen Park an Indoor- und Outdoor-Attraktionen. Wir geniessen den Wasserspielplatz\, das Kinderkarussel und die Auto-Scooter ebenso wie die Wildwasserbahn\, Voodoo Island\, den 5D-Flugsimulator und den Mammut-Tree. Dazu gibt es tolle Live-Shows mit den Papageien und Seelöwen sowie viele Indoor-Highlights mit dem Jungle Adventure oder einer Reise in die Zeit der Dinosaurier im Dino-Attack.\nTreffpunkte Region Zürich\nTreffpunkte Zug und Luzern
URL:https://www.schoeb-events.ch/event/connyland-lipperswil-3/
CATEGORIES:Luzern,Region Zürich,Zug
ATTACH;FMTTYPE=image/jpeg:https://www.schoeb-events.ch/wp-content/uploads/2019/11/Connyland.jpg
END:VEVENT
BEGIN:VEVENT
DTSTART;TZID=Europe/Zurich:20230720T080000
DTEND;TZID=Europe/Zurich:20230720T180000
DTSTAMP:20260421T080301
CREATED:20220330T173020Z
LAST-MODIFIED:20230717T122728Z
UID:10000065-1689840000-1689876000@www.schoeb-events.ch
SUMMARY:Atzmännig\, Goldingen
DESCRIPTION:Der Atzmännig bietet immer jede Menge Action: Wir besuchen den Seilpark mit acht Parcours in verschiedenen Höhen und mit verschiedenen Schwierigkeitsgraden (Mindestalter: 8 Jahre). Auch die 5-7-Jährigen können ihre Geschicklichkeit auf zwei speziellen Kinderparcours testen und üben. Zu Mittag erwartet uns ein gemütlicher Spaghettiplausch im Restaurant. Am Nachmittag fahren wir mit der Sesselbahn bis zum Start der Rodelbahn\, wo wir mit der Rodel über Kurven und Tunnel ins Tal sausen. Dazu gibt es noch Trampoline\, eine Riesenschaukel und vieles mehr!\nTreffpunkte Region Zürich\nTreffpunkte Zug und Luzern
URL:https://www.schoeb-events.ch/event/atzmaennig-goldingen-3/
CATEGORIES:Luzern,Region Zürich,Zug
ATTACH;FMTTYPE=image/jpeg:https://www.schoeb-events.ch/wp-content/uploads/2019/11/atzmaennig-1.jpg
END:VEVENT
BEGIN:VEVENT
DTSTART;TZID=Europe/Zurich:20230721T080000
DTEND;TZID=Europe/Zurich:20230721T180000
DTSTAMP:20260421T080301
CREATED:20220330T172716Z
LAST-MODIFIED:20230714T121448Z
UID:10000063-1689926400-1689962400@www.schoeb-events.ch
SUMMARY:Milandia\, Greifensee
DESCRIPTION:Der Erlebnispark Milandia bietet die perfekte Kombination aus Sport und Spiel. Am Vormittag versuchen wir uns beims Bouldern\, wo wir die bunten Kletterwände hochklettern und sicher wieder am Boden landen. Neben den Kletterparcours gibt es noch weitere lustige Geschicklichkeitsspiele. Danach geht’s zum Minigolf oder Tischtennis ins Freie. Den Nachmittag verbringen wir im Naturpool bei Wasserspielen\, Sandburgen bauen und feinem Glacé!\nTreffpunkte Region Zürich\nTreffpunkte Zug und Luzern
URL:https://www.schoeb-events.ch/event/milandia-greifensee/
CATEGORIES:Luzern,Region Zürich,Zug
ATTACH;FMTTYPE=image/jpeg:https://www.schoeb-events.ch/wp-content/uploads/2019/12/IMG_3361-scaled-e1651937865779.jpg
END:VEVENT
BEGIN:VEVENT
DTSTART;TZID=Europe/Zurich:20230721T080000
DTEND;TZID=Europe/Zurich:20230721T180000
DTSTAMP:20260421T080301
CREATED:20230213T183746Z
LAST-MODIFIED:20230213T184049Z
UID:10000174-1689926400-1689962400@www.schoeb-events.ch
SUMMARY:Fifa World Football Museum & Kulturama
DESCRIPTION:Am Vormittag tauchen wir in die faszinierende Welt des Fussballs ein. Bei unserem Rundgang erfahren wir spannende Geschichten über die wertvollen Trophäen\, bekannte Spieler und ihren  Trikots. Spielerisch können wir im einzigartigen begehbaren Flipper oder auf dem Spielfeld unser Fussball-Können testen und im LAB basteln und malen. Den Nachmittag verbringen wir im Kulturama\, wo wir auf einem Erlebnispfad die Anatomie und Funktion des Menschen durch Tasten\, Hören und Riechen entdecken. Wir dürfen alle Schubladen öffnen und alles anfassen. Wie pumpt das Herz\, wie funktionieren die Gelenke und warum können uns unsere Augen täuschen?\nTreffpunkte Region Zürich\nTreffpunkte Zug und Luzern
URL:https://www.schoeb-events.ch/event/fifa-world-football-museum-kulturama/
CATEGORIES:Luzern,Region Zürich,Zug
ATTACH;FMTTYPE=image/jpeg:https://www.schoeb-events.ch/wp-content/uploads/2017/01/IMG_7487.jpg
END:VEVENT
BEGIN:VEVENT
DTSTART;TZID=Europe/Zurich:20230724T080000
DTEND;TZID=Europe/Zurich:20230724T180000
DTSTAMP:20260421T080301
CREATED:20221116T192343Z
LAST-MODIFIED:20230720T183958Z
UID:10000146-1690185600-1690221600@www.schoeb-events.ch
SUMMARY:Adventure Arena & Schifffahrt
DESCRIPTION:Heute ist Action & Fun angesagt! In den neuen Spielwelten der Adventure Arena in Dübendorf tauchen wir in kleinen Gruppen in verschiedene Erlebnisräume ein und können mit Geschicklichkeit und Teamwork einmalige Abenteuer-Missionen erleben und deren Rätsel lösen. Die Aufgaben in den einzelnen Adventure Rooms können frei gewählt werden oder auch mehrmals gelöst werden. Den Nachmittag verbringen wir auf dem Zürichsee bei einer Schifffahrt mit einem Quiz.\nTreffpunkte Region Zürich\nTreffpunkte Zug und Luzern
URL:https://www.schoeb-events.ch/event/adventure-arena-kulturama-2/
CATEGORIES:Luzern,Region Zürich,Zug
ATTACH;FMTTYPE=image/jpeg:https://www.schoeb-events.ch/wp-content/uploads/2022/11/adventure_arena.jpg
END:VEVENT
BEGIN:VEVENT
DTSTART;TZID=Europe/Zurich:20230724T080000
DTEND;TZID=Europe/Zurich:20230724T180000
DTSTAMP:20260421T080301
CREATED:20230214T205312Z
LAST-MODIFIED:20230720T183440Z
UID:10000180-1690185600-1690221600@www.schoeb-events.ch
SUMMARY:Flossbau am Ägerisee
DESCRIPTION:Das wird ein ganz besonderes Abenteuer! Wir bauen unter fachkundiger Anleitung in kleinen Gruppen unser eigenes Floss und erhalten die nötigen Tipps\, damit unser Abenteuer gelingt. Nach den ersten Arbeiten können wir uns auf einen feinen Grillplausch freuen. Am Nachmittag werden die Flosse fertiggestellt und einem Sicherheitscheck unterzogen. Erst dann stechen wir in den Ägerisee und können uns auf ganz viel Spass auf dem Wasser freuen…YEAH! Alle Kinder tragen während der Flossfahrt auf dem Wasser eine Schwimmweste.\nTreffpunkte Region Zürich\nTreffpunkte Zug und Luzern
URL:https://www.schoeb-events.ch/event/flossbau-am-aegerisee/
CATEGORIES:Luzern,Region Zürich,Zug
ATTACH;FMTTYPE=image/jpeg:https://www.schoeb-events.ch/wp-content/uploads/2023/02/flossbau.jpg
END:VEVENT
BEGIN:VEVENT
DTSTART;TZID=Europe/Zurich:20230725T080000
DTEND;TZID=Europe/Zurich:20230725T180000
DTSTAMP:20260421T080301
CREATED:20230214T210737Z
LAST-MODIFIED:20230214T212044Z
UID:10000181-1690272000-1690308000@www.schoeb-events.ch
SUMMARY:Historisches Museum Luzern & Swiss Chocolate Adventure
DESCRIPTION:Am Vormittag besuchen wir das Historische Museum in Luzern mit seiner ganz speziellen Erlebniswelt im ehemaligen Zeughaus der Stadt. Wir entdecken das Museum auf eigene Faust und lösen knifflige Fragen mit dem Scanner. Als Belohnung wartet auf uns ein Geschenk im Tresor. Nach dem Mittagessen geht es am Nachmittag in die Schokoladenwelt im Verkehrshaus\, dem Swiss Chocolate Adventure\, und auf den Spielplatz.\nTreffpunkte Region Zürich\nTreffpunkte Zug und Luzern
URL:https://www.schoeb-events.ch/event/historisches-museum-luzern-swiss-chocolate-adventure-2/
CATEGORIES:Luzern,Region Zürich,Zug
ATTACH;FMTTYPE=image/jpeg:https://www.schoeb-events.ch/wp-content/uploads/2023/02/historisches_museum.jpg
END:VEVENT
BEGIN:VEVENT
DTSTART;TZID=Europe/Zurich:20230726T080000
DTEND;TZID=Europe/Zurich:20230726T180000
DTSTAMP:20260421T080301
CREATED:20220329T101322Z
LAST-MODIFIED:20230724T094435Z
UID:10000005-1690358400-1690394400@www.schoeb-events.ch
SUMMARY:Gletschergarten Luzern & Gameorama
DESCRIPTION:Heute erkunden wir den Gletschergarten Luzern mit seiner 20 Millionen Jahre alten Geschichte. Bei einem Rundgang mit der neuen «Bucket List Tour» als Audioguide erfahren wir Interessantes über die Eiszeit in den Alpen und über das Löwen-Denkmal. Dabei entdecken wir auch die unterirdische Felsenwelt\, wo wir am Ende des Felsgangs ans Tageslicht kommen und mit einem fantastischen Alpenblick belohnt werden. Im verwirrenden und lustigen Spiegellabyrinth erleben wir spannende Bilder. Am Nachmittag tauchen wir in die Spielwelten des Gameorama ein – ein einmaliges interaktives Spielmuseum!\nTreffpunkte Region Zürich\nTreffpunkte Zug und Luzern
URL:https://www.schoeb-events.ch/event/gletschergarten-abenteuerspielplatz/
CATEGORIES:Luzern,Region Zürich,Zug
ATTACH;FMTTYPE=image/png:https://www.schoeb-events.ch/wp-content/uploads/2022/03/gletschergarten.png
END:VEVENT
BEGIN:VEVENT
DTSTART;TZID=Europe/Zurich:20230726T080000
DTEND;TZID=Europe/Zurich:20230726T180000
DTSTAMP:20260421T080301
CREATED:20220330T161100Z
LAST-MODIFIED:20230724T093907Z
UID:10000034-1690358400-1690394400@www.schoeb-events.ch
SUMMARY:Connyland\, Lipperswil
DESCRIPTION:Viel Spass erwartet uns im Connyland mit seinem grossen Park an Indoor- und Outdoor-Attraktionen. Wir geniessen den Wasserspielplatz\, das Kinderkarussel und die Auto-Scooter ebenso wie die Wildwasserbahn\, Voodoo Island\, den 5D-Flugsimulator und den Mammut-Tree. Dazu gibt es tolle Live-Shows mit den Papageien und Seelöwen sowie viele Indoor-Highlights mit dem Jungle Adventure oder einer Reise in die Zeit der Dinosaurier im Dino-Attack.\nTreffpunkte Region Zürich\nTreffpunkte Zug und Luzern
URL:https://www.schoeb-events.ch/event/connyland-lipperswil-2/
CATEGORIES:Luzern,Region Zürich,Zug
ATTACH;FMTTYPE=image/jpeg:https://www.schoeb-events.ch/wp-content/uploads/2019/11/Connyland.jpg
END:VEVENT
BEGIN:VEVENT
DTSTART;TZID=Europe/Zurich:20230727T080000
DTEND;TZID=Europe/Zurich:20230727T180000
DTSTAMP:20260421T080301
CREATED:20220330T172558Z
LAST-MODIFIED:20230724T172452Z
UID:10000062-1690444800-1690480800@www.schoeb-events.ch
SUMMARY:Goldwaschen im Tösstal
DESCRIPTION:Was für ein einmaliges Abenteuer in freier Natur! Wir machen uns auf die Suche nach echtem Gold und reisen dazu nach Steg ins Tösstal. Dort ziehen wir unsere Gummistiefel an und los geht’s mit der Suche nach dem Glitzer des Goldes zwischen Sand und Kies im Bach. Beim Lagerfeuer braten wir unsere Würste und hören tolle Abenteuergeschichten von Goldgräbern. Unsere gefundenen Schätze dürfen wir am Schluss mit nach Hause nehmen…YEAH!\nTreffpunkte Region Zürich\nTreffpunkte Zug und Luzern
URL:https://www.schoeb-events.ch/event/goldwaschen-im-toesstal-2/
CATEGORIES:Luzern,Region Zürich,Zug
ATTACH;FMTTYPE=image/jpeg:https://www.schoeb-events.ch/wp-content/uploads/2022/03/goldwachen_neu-scaled.jpeg
END:VEVENT
BEGIN:VEVENT
DTSTART;TZID=Europe/Zurich:20230728T080000
DTEND;TZID=Europe/Zurich:20230728T180000
DTSTAMP:20260421T080301
CREATED:20220330T153747Z
LAST-MODIFIED:20230214T211650Z
UID:10000021-1690531200-1690567200@www.schoeb-events.ch
SUMMARY:Juckerfarm\, Aathal
DESCRIPTION:Heute erkunden wir den einmaligen Erlebnis-Bauernhof am Pfäffikersee. Am Vormittag erfahren wir bei einem Rundgang Interessantes über die Produktionen auf dem Hof\, die Hofbäckerei und den Hofladen. Anschliessend geht’s zum Geisslipark und der riesigen Strohburg zum Rumhüpfen mit herrlicher Aussicht. Nach einem feinen Zmittag wagen wir uns in das Apfellabyrinth mit Barfusserlebnis und in die Obstplantagen zum Pflücken von frischen Heidelbeeren…mmmh!\nTreffpunkte Region Zürich\nTreffpunkte Zug und Luzern
URL:https://www.schoeb-events.ch/event/juckerfarm-aathal/
CATEGORIES:Luzern,Region Zürich,Zug
ATTACH;FMTTYPE=image/jpeg:https://www.schoeb-events.ch/wp-content/uploads/2017/01/juckerhof.jpg
END:VEVENT
BEGIN:VEVENT
DTSTART;TZID=Europe/Zurich:20230728T080000
DTEND;TZID=Europe/Zurich:20230728T180000
DTSTAMP:20260421T080301
CREATED:20220330T154157Z
LAST-MODIFIED:20230608T161220Z
UID:10000023-1690531200-1690567200@www.schoeb-events.ch
SUMMARY:Abenteuerland Walter Zoo\, Gossau
DESCRIPTION:Eine erlebnisreiche Reise mit vielen Tieren und Naturerlebnissen erwartet dich heute im Abenteuerland Walter Zoo. Wir begegnen bestimmt dem Amur Tiger\, dem Leoparden\, der Sumpfschildkröte\, dem Mississippi Alligator und bestaunen die neue Löwen-Anlage. Von diesen zahlreichen Eindrücken erholen wir uns auf dem grossen Spielplatz oder im Tipi-Zelt. Am Nachmittag besuchen wir die Märchenwelt im Zirkuszelt mit einer Vorstellung im Zootheater.\nTreffpunkte Region Zürich\nTreffpunkte Zug und Luzern
URL:https://www.schoeb-events.ch/event/abenteuerland-walter-zoo-gossau/
CATEGORIES:Luzern,Region Zürich,Zug
ATTACH;FMTTYPE=image/jpeg:https://www.schoeb-events.ch/wp-content/uploads/2022/03/walterzoo.jpg
END:VEVENT
END:VCALENDAR