BEGIN:VCALENDAR
VERSION:2.0
PRODID:-//Schöb Events - ECPv6.15.17.1//NONSGML v1.0//EN
CALSCALE:GREGORIAN
METHOD:PUBLISH
X-ORIGINAL-URL:https://www.schoeb-events.ch
X-WR-CALDESC:Veranstaltungen für Schöb Events
REFRESH-INTERVAL;VALUE=DURATION:PT1H
X-Robots-Tag:noindex
X-PUBLISHED-TTL:PT1H
BEGIN:VTIMEZONE
TZID:Europe/Zurich
BEGIN:DAYLIGHT
TZOFFSETFROM:+0100
TZOFFSETTO:+0200
TZNAME:CEST
DTSTART:20220327T010000
END:DAYLIGHT
BEGIN:STANDARD
TZOFFSETFROM:+0200
TZOFFSETTO:+0100
TZNAME:CET
DTSTART:20221030T010000
END:STANDARD
BEGIN:DAYLIGHT
TZOFFSETFROM:+0100
TZOFFSETTO:+0200
TZNAME:CEST
DTSTART:20230326T010000
END:DAYLIGHT
BEGIN:STANDARD
TZOFFSETFROM:+0200
TZOFFSETTO:+0100
TZNAME:CET
DTSTART:20231029T010000
END:STANDARD
BEGIN:DAYLIGHT
TZOFFSETFROM:+0100
TZOFFSETTO:+0200
TZNAME:CEST
DTSTART:20240331T010000
END:DAYLIGHT
BEGIN:STANDARD
TZOFFSETFROM:+0200
TZOFFSETTO:+0100
TZNAME:CET
DTSTART:20241027T010000
END:STANDARD
END:VTIMEZONE
BEGIN:VEVENT
DTSTART;TZID=Europe/Zurich:20230502T080000
DTEND;TZID=Europe/Zurich:20230502T180000
DTSTAMP:20260421T110935
CREATED:20221130T170451Z
LAST-MODIFIED:20230424T172449Z
UID:10000164-1683014400-1683050400@www.schoeb-events.ch
SUMMARY:Adventure Arena & Landesmuseum
DESCRIPTION:In der neuen Adventure Arena in Dübendorf erwartet uns jede Menge Spass in den 20 verschiedenen Spielwelten! In kleinen Gruppen lösen wir in jedem Abenteuerraum die unterschiedlichen Missionen und benötigen dazu Geschicklichkeit\, Ausdauer und manchmal etwas Glück…. Nach so viel Adrenalin geht es gemütlich zum Mittagessen und am Nachmittag ins Landesmuseum in Zürich. Dort werde wir mit der Familienausstellung «Mit fliegendem Teppich durch die Geschichte» spielerisch in die Vergangenheit reisen und spannende Geschichten hören.
URL:https://www.schoeb-events.ch/event/adventure-arena-landesmuseum/
CATEGORIES:Region Zürich
ATTACH;FMTTYPE=image/jpeg:https://www.schoeb-events.ch/wp-content/uploads/2022/11/adventure_arena-1.jpg
END:VEVENT
BEGIN:VEVENT
DTSTART;TZID=Europe/Zurich:20230505T080000
DTEND;TZID=Europe/Zurich:20230505T180000
DTSTAMP:20260421T110935
CREATED:20221130T171733Z
LAST-MODIFIED:20230426T120125Z
UID:10000100-1683273600-1683309600@www.schoeb-events.ch
SUMMARY:Glasi Hergiswil
DESCRIPTION:Heute geht’s zur Glasi Hergiswil\, wo wir das Museum „vom Feuer geformt“ besuchen und die Geschichte des Glases bei einer einzigartigen Ton- und Lichtshow kennenlernen. Wir dürfen den Glasbläsern bei der Arbeit zusehen\, wie sie aus der glühenden Masse Gläser formen\, blasen und giessen. Auch das Glaslabyrinth wird uns verzaubern sowie die Glas-Wasser-Spiele im Freien. Auf dem Spielplatz können wir uns auf die Rutsche der 7 Meter hohen Murmelbahn freuen!
URL:https://www.schoeb-events.ch/event/glasi-hergiswil-2/
CATEGORIES:Region Zürich,Zug
ATTACH;FMTTYPE=image/jpeg:https://www.schoeb-events.ch/wp-content/uploads/2022/03/glasi-scaled.jpeg
END:VEVENT
END:VCALENDAR