BEGIN:VCALENDAR
VERSION:2.0
PRODID:-//Schöb Events - ECPv6.15.17.1//NONSGML v1.0//EN
CALSCALE:GREGORIAN
METHOD:PUBLISH
X-WR-CALNAME:Schöb Events
X-ORIGINAL-URL:https://www.schoeb-events.ch
X-WR-CALDESC:Veranstaltungen für Schöb Events
REFRESH-INTERVAL;VALUE=DURATION:PT1H
X-Robots-Tag:noindex
X-PUBLISHED-TTL:PT1H
BEGIN:VTIMEZONE
TZID:Europe/Zurich
BEGIN:DAYLIGHT
TZOFFSETFROM:+0100
TZOFFSETTO:+0200
TZNAME:CEST
DTSTART:20210328T010000
END:DAYLIGHT
BEGIN:STANDARD
TZOFFSETFROM:+0200
TZOFFSETTO:+0100
TZNAME:CET
DTSTART:20211031T010000
END:STANDARD
BEGIN:DAYLIGHT
TZOFFSETFROM:+0100
TZOFFSETTO:+0200
TZNAME:CEST
DTSTART:20220327T010000
END:DAYLIGHT
BEGIN:STANDARD
TZOFFSETFROM:+0200
TZOFFSETTO:+0100
TZNAME:CET
DTSTART:20221030T010000
END:STANDARD
BEGIN:DAYLIGHT
TZOFFSETFROM:+0100
TZOFFSETTO:+0200
TZNAME:CEST
DTSTART:20230326T010000
END:DAYLIGHT
BEGIN:STANDARD
TZOFFSETFROM:+0200
TZOFFSETTO:+0100
TZNAME:CET
DTSTART:20231029T010000
END:STANDARD
END:VTIMEZONE
BEGIN:VEVENT
DTSTART;TZID=Europe/Zurich:20220713T080000
DTEND;TZID=Europe/Zurich:20220713T180000
DTSTAMP:20260422T031145
CREATED:20220329T100956Z
LAST-MODIFIED:20220509T123727Z
UID:10000003-1657699200-1657735200@www.schoeb-events.ch
SUMMARY:City Boulder Kriens & Minigolf
DESCRIPTION:Am Vormittag reisen wir nach Kriens und versuchen uns an den bunten Wänden in der Boulderhalle City Boulder. Jedes Kind kann nach seinen Fähigkeiten und ohne Seil einfache bis schwierigere Routen an den Wänden hochklettern und landet immer wieder auf den dicken weichen Matten. Nach dem Mittagessen geht es an den Vierwaldstättersee zum Minigolfen.\nTreffpunkte Zug und Luzern
URL:https://www.schoeb-events.ch/event/city-boulder-kriens-minigolf/
CATEGORIES:Luzern,Zug
ATTACH;FMTTYPE=image/jpeg:https://www.schoeb-events.ch/wp-content/uploads/2022/03/cityboulder-1.jpg
END:VEVENT
BEGIN:VEVENT
DTSTART;TZID=Europe/Zurich:20220714T080000
DTEND;TZID=Europe/Zurich:20220714T180000
DTSTAMP:20260422T031145
CREATED:20220329T101154Z
LAST-MODIFIED:20220507T141856Z
UID:10000004-1657785600-1657821600@www.schoeb-events.ch
SUMMARY:Aeschbach Chocolatier & Planetarium
DESCRIPTION:Heute dürfen wir in die faszinierende Welt der Schokolade eintauchen. Dabei erfahren wir im Aeschbach Chocolatier bei einem interaktiven Rundgang und einer Schifffahrt alles über die Geschichte der Schokolade sowie die Transportwege des Kakaos. Anschliessend können wir unser eigenes Schokoladenkunstwerk mit Nüssen\, Früchten\, salzig oder scharf kreieren…mmhh! Nach dem Mittagessen geht es zum Verkehrshaus für den Besuch des Planetariums.\nTreffpunkte Zug und Luzern
URL:https://www.schoeb-events.ch/event/aeschbach-chocolatier-planetarium/
CATEGORIES:Luzern,Zug
ATTACH;FMTTYPE=image/jpeg:https://www.schoeb-events.ch/wp-content/uploads/2022/03/aeschbach-e1651772710850.jpg
END:VEVENT
BEGIN:VEVENT
DTSTART;TZID=Europe/Zurich:20220719T080000
DTEND;TZID=Europe/Zurich:20220719T180000
DTSTAMP:20260422T031145
CREATED:20220330T142608Z
LAST-MODIFIED:20220507T065145Z
UID:10000012-1658217600-1658253600@www.schoeb-events.ch
SUMMARY:Schaukäserei Appenzell
DESCRIPTION:Wie wird eigentlich aus Milch Käse? Und was macht den Käse so würzig? Das alles lassen wir uns bei einer Führung in der Schaukäserei Appenzell erklären. Eine Käserin zeigt uns das Einlaben\, das Bruch schneiden bis hin zum Affinieren des Käses. Wir dürfen dabei auch selbst mitarbeiten und unseren eigenen Frischkäse produzieren. Nach Chäs-Hörnli mit Apfelmus geht’s am Nachmittag mit einem Rätselbuch auf den Perlenweg. Beim Herausfinden des richigen Lösungswortes erwartet uns in der Schaukäserei ein kleines Geschenk.\nTreffpunkte Region Zürich\nTreffpunkte Zug und Luzern
URL:https://www.schoeb-events.ch/event/schaukaeserei-appenzell/
CATEGORIES:Luzern,Region Zürich,Zug
ATTACH;FMTTYPE=image/jpeg:https://www.schoeb-events.ch/wp-content/uploads/2022/03/schaukaeserei-e1651906298747.jpg
END:VEVENT
BEGIN:VEVENT
DTSTART;TZID=Europe/Zurich:20220722T080000
DTEND;TZID=Europe/Zurich:20220722T180000
DTSTAMP:20260422T031145
CREATED:20220330T154532Z
LAST-MODIFIED:20220507T070653Z
UID:10000025-1658476800-1658512800@www.schoeb-events.ch
SUMMARY:Botanischer Garten & Flip Lab
DESCRIPTION:Am Vormittag besuchen wir die Tropenhäuser des botanischen Gartens in Zürich mit seiner Vielfalt von farbenprächtigen und duftenden Pflanzen. Wir erfahren alles über die Kraft der Zauberpflanzen\, die bereits in Hexengeschichten bekannt sind sowie die Besonderheiten über Heilpflanzen und Giftpflanzen. Auf einem Lehrpfad können wir die Flora spielerisch selbst erkunden und uns bei einem Znüni in der Wiese stärken. Am Nachmittag geht es voller Action ins Flip Lab\, wo wir uns auf den verschiedensten Fun Parcours so richtig austoben können: Trampoline\, Air-Bags\, Basketball-Trampolin und Ninja Parcours!\nTreffpunkte Region Zürich\nTreffpunkte Zug und Luzern
URL:https://www.schoeb-events.ch/event/botanischer-garten-flip-lab/
CATEGORIES:Luzern,Region Zürich,Zug
ATTACH;FMTTYPE=image/jpeg:https://www.schoeb-events.ch/wp-content/uploads/2020/11/fliplab-e1651907206808.jpg
END:VEVENT
BEGIN:VEVENT
DTSTART;TZID=Europe/Zurich:20220726T080000
DTEND;TZID=Europe/Zurich:20220726T180000
DTSTAMP:20260422T031145
CREATED:20220330T163727Z
LAST-MODIFIED:20220724T144001Z
UID:10000050-1658822400-1658858400@www.schoeb-events.ch
SUMMARY:Historisches Museum Luzern & Swiss Chocolate Adventure
DESCRIPTION:Am Vormittag besuchen wir das Historische Museum in Luzern mit seiner ganz speziellen Erlebniswelt im ehemaligen Zeughaus der Stadt. Wir entdecken das Museum auf eigene Faust und lösen knifflige Fragen mit dem Scanner. Als Belohnung wartet auf uns ein Geschenk im Tresor. Nach dem Mittagessen geht es am Nachmittag in die Schokoladenwelt im Verkehrshaus\, dem Swiss Chocolate Adventure\, und auf den Spielplatz.\nTreffpunkte Region Zürich\nTreffpunkte Zug und Luzern
URL:https://www.schoeb-events.ch/event/historisches-museum-luzern-swiss-chocolate-adventure/
CATEGORIES:Luzern,Region Zürich,Zug
ATTACH;FMTTYPE=image/jpeg:https://www.schoeb-events.ch/wp-content/uploads/2022/03/chocolateadventure.jpg
END:VEVENT
BEGIN:VEVENT
DTSTART;TZID=Europe/Zurich:20220727T080000
DTEND;TZID=Europe/Zurich:20220727T180000
DTSTAMP:20260422T031145
CREATED:20220330T160926Z
LAST-MODIFIED:20220702T050408Z
UID:10000033-1658908800-1658944800@www.schoeb-events.ch
SUMMARY:BounceLab & Bächlihof
DESCRIPTION:Im Bounce Lab in Rüti ist immer was los! Viele unterschiedliche Trampoline laden zum Springen\, Fliegen und Staunen ein! Möchtest du einen neuen Sprung probieren? Die Trampolin-Instrukteure zeigen dir gerne die Tricks der coolen Sprünge. Dazu gibt’s noch Drehfussball\, Tischtennis und ein Riesenschwingtuch. Am Nachmittag geht’s weiter zum Erlebnisbauernhof Bächlihof. Wir geniessen den Naturspielplatz\, den Geisslipark und einen hausgemachten Zvieri vom Hof.\nTreffpunkte Region Zürich\nTreffpunkte Zug und Luzern
URL:https://www.schoeb-events.ch/event/bouncelab-baechlihof/
CATEGORIES:Luzern,Region Zürich,Zug
ATTACH;FMTTYPE=image/jpeg:https://www.schoeb-events.ch/wp-content/uploads/2022/03/bouncelab.jpg
END:VEVENT
BEGIN:VEVENT
DTSTART;TZID=Europe/Zurich:20220727T080000
DTEND;TZID=Europe/Zurich:20220727T180000
DTSTAMP:20260422T031145
CREATED:20220330T163904Z
LAST-MODIFIED:20220507T134037Z
UID:10000052-1658908800-1658944800@www.schoeb-events.ch
SUMMARY:Höllgrotten\, Baar
DESCRIPTION:Das Lorenztobel bei Baar bietet uns heute den idealen Start für die Erkundung der einzigartigen Tropfsteinhöhlen in Baar. Wir können bei einem Rundgang die Höllgrotten mit ihren märchenhaften Steinformationen bestaunen und lassen uns vom „Höllgrottetüüfeli“ in eine fabelhafte Welt entführen. Dabei entdecken wir die Zottel- und Märchengrotte sowie das wunderbar beleuchtete Zauberschloss. Nach dem Besuch dieser unterirdischen Zauberwelt geniessen wir einen feinen Zmittag und verweilen am Nachmittag in der Natur des Lorenztobels.\nTreffpunkte Region Zürich\nTreffpunkte Zug und Luzern
URL:https://www.schoeb-events.ch/event/hoellgrotten-baar/
CATEGORIES:Luzern,Region Zürich,Zug
ATTACH;FMTTYPE=image/jpeg:https://www.schoeb-events.ch/wp-content/uploads/2022/03/hoellgrotten.jpg
END:VEVENT
BEGIN:VEVENT
DTSTART;TZID=Europe/Zurich:20220728T080000
DTEND;TZID=Europe/Zurich:20220728T180000
DTSTAMP:20260422T031145
CREATED:20220330T164026Z
LAST-MODIFIED:20220507T134603Z
UID:10000054-1658995200-1659031200@www.schoeb-events.ch
SUMMARY:Freiruum & Spielplatz Siehbach
DESCRIPTION:Action und Spass erwartet uns im Freizeitzentrum Freiruum mit den verschiedensten Trampolinen und einer Parkour Zone\, wo du bei ihren Parcours mit unterschiedlichen Hindernissen deine Kraft\, Geschicklichkeit und Kreativität testen und fördern kannst. Relaxen kann man im Spiilruum\, dem Indoorspielplatz. Den Nachmittag verbringen wir draussen auf dem Spielplatz Siehbach direkt am Zugersee mit Wasserpumpen\, Windräder\, Rutschen und Weidentunnels.\nTreffpunkte Region Zürich\nTreffpunkte Zug und Luzern
URL:https://www.schoeb-events.ch/event/freiruum-spielplatz-siehbach/
CATEGORIES:Luzern,Region Zürich,Zug
ATTACH;FMTTYPE=image/jpeg:https://www.schoeb-events.ch/wp-content/uploads/2022/03/freiruum-e1651931153579.jpg
END:VEVENT
BEGIN:VEVENT
DTSTART;TZID=Europe/Zurich:20220729T080000
DTEND;TZID=Europe/Zurich:20220729T180000
DTSTAMP:20260422T031145
CREATED:20220330T161236Z
LAST-MODIFIED:20220507T135036Z
UID:10000036-1659081600-1659117600@www.schoeb-events.ch
SUMMARY:Knies Kinderzoo\, Rapperswil
DESCRIPTION:Heute geht es in den Kinderzoo Rapperswil\, wo wir 400 verschiedene Tierarten entdecken und hautnah erleben können. Dabei sehen wir den Elefanten beim Baden zu\, oder wir reiten auf ihnen. Auch die Fütterung der Kamele\, ein Ritt auf dem Pony oder eine Fahrt mit dem Rösslitram sind einmalige Erlebnisse.  Selbstverständlich besuchen wir auch die Seelöwenvorführung und lassen uns viel Zeit auf dem Spielplatz.\nTreffpunkte Region Zürich\nTreffpunkte Zug und Luzern
URL:https://www.schoeb-events.ch/event/knies-kinderzoo-rapperswil/
CATEGORIES:Luzern,Region Zürich,Zug
ATTACH;FMTTYPE=image/jpeg:https://www.schoeb-events.ch/wp-content/uploads/2022/03/kinderzoo.jpg
END:VEVENT
END:VCALENDAR