BEGIN:VCALENDAR
VERSION:2.0
PRODID:-//Schöb Events - ECPv6.15.17.1//NONSGML v1.0//EN
CALSCALE:GREGORIAN
METHOD:PUBLISH
X-WR-CALNAME:Schöb Events
X-ORIGINAL-URL:https://www.schoeb-events.ch
X-WR-CALDESC:Events for Schöb Events
REFRESH-INTERVAL;VALUE=DURATION:PT1H
X-Robots-Tag:noindex
X-PUBLISHED-TTL:PT1H
BEGIN:VTIMEZONE
TZID:Europe/Zurich
BEGIN:DAYLIGHT
TZOFFSETFROM:+0100
TZOFFSETTO:+0200
TZNAME:CEST
DTSTART:20230326T010000
END:DAYLIGHT
BEGIN:STANDARD
TZOFFSETFROM:+0200
TZOFFSETTO:+0100
TZNAME:CET
DTSTART:20231029T010000
END:STANDARD
BEGIN:DAYLIGHT
TZOFFSETFROM:+0100
TZOFFSETTO:+0200
TZNAME:CEST
DTSTART:20240331T010000
END:DAYLIGHT
BEGIN:STANDARD
TZOFFSETFROM:+0200
TZOFFSETTO:+0100
TZNAME:CET
DTSTART:20241027T010000
END:STANDARD
BEGIN:DAYLIGHT
TZOFFSETFROM:+0100
TZOFFSETTO:+0200
TZNAME:CEST
DTSTART:20250330T010000
END:DAYLIGHT
BEGIN:STANDARD
TZOFFSETFROM:+0200
TZOFFSETTO:+0100
TZNAME:CET
DTSTART:20251026T010000
END:STANDARD
END:VTIMEZONE
BEGIN:VEVENT
DTSTART;TZID=Europe/Zurich:20240103T080000
DTEND;TZID=Europe/Zurich:20240103T180000
DTSTAMP:20260420T234646
CREATED:20231004T174135Z
LAST-MODIFIED:20231218T145232Z
UID:10000208-1704268800-1704304800@www.schoeb-events.ch
SUMMARY:National Museum Zurich & BounceLab
DESCRIPTION:In the morning we will visit the family exhibition of the National Museum. There we will travel through history on a flying carpet and hear exciting stories and riddles about the Orient\, shipping and the railway. It will be fun and creative to dress up as a pirate or a princess or to paint and do handicrafts in the small studio. In the afternoon\, we can look forward to the BounceLab trampoline hall in Rüti. Many different trampolines invite you to jump and fly! In addition\, there’s spinning football\, table tennis and a giant swinging sling.\nMeeting points Zurich region\nMeeting points Zug and Lucerne region
URL:https://www.schoeb-events.ch/en/event/national-museum-zurich-bouncelab/
CATEGORIES:Lucerne,Region of Zurich,Zug
ATTACH;FMTTYPE=image/jpeg:https://www.schoeb-events.ch/wp-content/uploads/2019/11/IMG_2156-scaled.jpg
END:VEVENT
BEGIN:VEVENT
DTSTART;TZID=Europe/Zurich:20240104T080000
DTEND;TZID=Europe/Zurich:20240104T180000
DTSTAMP:20260420T234646
CREATED:20231004T173129Z
LAST-MODIFIED:20231218T145402Z
UID:10000206-1704355200-1704391200@www.schoeb-events.ch
SUMMARY:Dolder Artificial Ice Rink & Mühlerama Mill
DESCRIPTION:Today we’ll try our hand at skating on the Dolder artificial ice rink and do our laps….with or without a polar bear. Beginners can also enjoy the ice sitting on a Rutscherli (chair with runners). In case of bad weather\, we go to the ice rink in Wetzikon. Each child can bring their own skates or we can hire them. After a delicious lunch\, we will go to the Mühlerama in the afternoon\, where we will learn about the history of the historic mill at various stations with a flour brush. In the workshop\, we can grind our own flour from grains and have a real miller explain the grain mill to us. At the end\, we can hurtle down the grain slide!\nMeeting points Zurich region\nMeeting points Zug and Lucerne region
URL:https://www.schoeb-events.ch/en/event/dolder-artificial-ice-rink-muehlerama-mill/
CATEGORIES:Lucerne,Region of Zurich,Zug
ATTACH;FMTTYPE=image/jpeg:https://www.schoeb-events.ch/wp-content/uploads/2022/10/schlittschuhfahren.jpg
END:VEVENT
BEGIN:VEVENT
DTSTART;TZID=Europe/Zurich:20240105T080000
DTEND;TZID=Europe/Zurich:20240105T180000
DTSTAMP:20260420T234646
CREATED:20231004T173333Z
LAST-MODIFIED:20231218T145729Z
UID:10000207-1704441600-1704477600@www.schoeb-events.ch
SUMMARY:Zurich Zoo
DESCRIPTION:There is always something new to discover at Zurich Zoo! We visit the Masoala Rainforest\, the elephant park\, the indoor penguin enclosure in the aquarium with 8 underwater worlds and\, of course\, Zurich Zoo’s largest enclosure: the Lewa Savanna. There we can marvel at the giraffes\, rhinos and zebras as well as the mysterious baobab feeding trees. And in the new nature conservation centre\, we can experience Zurich Zoo’s current nature conservation projects in Kenya\, Antarctica and Thailand up close in the 360° cinema.\nMeeting points Zurich region\nMeeting points Zug and Lucerne region
URL:https://www.schoeb-events.ch/en/event/zurich-zoo-2/
CATEGORIES:Lucerne,Region of Zurich,Zug
ATTACH;FMTTYPE=image/jpeg:https://www.schoeb-events.ch/wp-content/uploads/2022/11/zoo_zuerich.jpg
END:VEVENT
END:VCALENDAR