BEGIN:VCALENDAR
VERSION:2.0
PRODID:-//Schöb Events - ECPv6.15.17.1//NONSGML v1.0//EN
CALSCALE:GREGORIAN
METHOD:PUBLISH
X-ORIGINAL-URL:https://www.schoeb-events.ch
X-WR-CALDESC:Events for Schöb Events
REFRESH-INTERVAL;VALUE=DURATION:PT1H
X-Robots-Tag:noindex
X-PUBLISHED-TTL:PT1H
BEGIN:VTIMEZONE
TZID:Europe/Zurich
BEGIN:DAYLIGHT
TZOFFSETFROM:+0100
TZOFFSETTO:+0200
TZNAME:CEST
DTSTART:20220327T010000
END:DAYLIGHT
BEGIN:STANDARD
TZOFFSETFROM:+0200
TZOFFSETTO:+0100
TZNAME:CET
DTSTART:20221030T010000
END:STANDARD
BEGIN:DAYLIGHT
TZOFFSETFROM:+0100
TZOFFSETTO:+0200
TZNAME:CEST
DTSTART:20230326T010000
END:DAYLIGHT
BEGIN:STANDARD
TZOFFSETFROM:+0200
TZOFFSETTO:+0100
TZNAME:CET
DTSTART:20231029T010000
END:STANDARD
BEGIN:DAYLIGHT
TZOFFSETFROM:+0100
TZOFFSETTO:+0200
TZNAME:CEST
DTSTART:20240331T010000
END:DAYLIGHT
BEGIN:STANDARD
TZOFFSETFROM:+0200
TZOFFSETTO:+0100
TZNAME:CET
DTSTART:20241027T010000
END:STANDARD
END:VTIMEZONE
BEGIN:VEVENT
DTSTART;TZID=Europe/Zurich:20230814T080000
DTEND;TZID=Europe/Zurich:20230814T180000
DTSTAMP:20260421T073858
CREATED:20220330T161729Z
LAST-MODIFIED:20230731T152433Z
UID:10000038-1692000000-1692036000@www.schoeb-events.ch
SUMMARY:Rope park Atzmännig\, Goldingen
DESCRIPTION:The Atzmännig always offers lots of action: we visit the rope park with eight courses at different heights and with different levels of difficulty (minimum age: 8 years). The 5-7 year olds can also test and practise their skills on two special children’s courses. At lunchtime\, a cosy spaghetti lunch awaits us in the restaurant. In the afternoon\, we take the chairlift to the start of the toboggan run\, where we whizz down into the valley over curves and tunnels. There are also trampolines\, a giant swing and much more!\n\n\nMeeting points Zurich region\nMeeting points Zug and Lucerne region
URL:https://www.schoeb-events.ch/en/event/atzmaennig-goldingen-2/
CATEGORIES:Lucerne,Region of Zurich,Zug
ATTACH;FMTTYPE=image/jpeg:https://www.schoeb-events.ch/wp-content/uploads/2019/11/atzmaennig-1.jpg
END:VEVENT
BEGIN:VEVENT
DTSTART;TZID=Europe/Zurich:20230814T080000
DTEND;TZID=Europe/Zurich:20230814T180000
DTSTAMP:20260421T073858
CREATED:20221115T172851Z
LAST-MODIFIED:20230808T145012Z
UID:10000120-1692000000-1692036000@www.schoeb-events.ch
SUMMARY:Rolling Rock\, Aarau
DESCRIPTION:Today it’s action time! We can really let off steam at the Rolling Rock Skate & Sport Center’s large indoor and outdoor skate facility. We’ll rent a skateboard\, freestyle scooter\, rollerblades or a BMX and try our hand at the various courses. No previous experience is necessary\, everyone can freely choose their rides on the facility. In addition\, bouldering\, trampolines\, table tennis or floorball are waiting for us…..a pure action!\nMeeting points Zurich region\nMeeting points Zug and Lucerne region
URL:https://www.schoeb-events.ch/en/event/rolling-rock-2/
CATEGORIES:Lucerne,Region of Zurich,Zug
ATTACH;FMTTYPE=image/jpeg:https://www.schoeb-events.ch/wp-content/uploads/2017/01/rollingrock.jpg
END:VEVENT
BEGIN:VEVENT
DTSTART;TZID=Europe/Zurich:20230815T080000
DTEND;TZID=Europe/Zurich:20230815T180000
DTSTAMP:20260421T073858
CREATED:20220330T155222Z
LAST-MODIFIED:20230809T104245Z
UID:10000027-1692086400-1692122400@www.schoeb-events.ch
SUMMARY:Connyland\, Lipperswil
DESCRIPTION:Lots of fun awaits us at Connyland with its large park of indoor and outdoor attractions. We enjoy the water playground\, the children’s carousel and the car scooters as well as the wild water ride\, Voodoo Island\, the 5D flight simulator and the Mammoth Tree. There are also great live shows with the parrots and sea lions as well as many indoor highlights with the Jungle Adventure or a trip back in time to the dinosaurs in the Dino-Attack.\n\n\nMeeting points Zurich region\nMeeting points Zug and Lucerne region
URL:https://www.schoeb-events.ch/en/event/connyland-lipperswil/
CATEGORIES:Lucerne,Region of Zurich,Zug
ATTACH;FMTTYPE=image/jpeg:https://www.schoeb-events.ch/wp-content/uploads/2019/11/Connyland.jpg
END:VEVENT
BEGIN:VEVENT
DTSTART;TZID=Europe/Zurich:20230815T080000
DTEND;TZID=Europe/Zurich:20230815T180000
DTSTAMP:20260421T073858
CREATED:20220330T164840Z
LAST-MODIFIED:20230808T152842Z
UID:10000056-1692086400-1692122400@www.schoeb-events.ch
SUMMARY:Neufuhr riding stable\, Uster
DESCRIPTION:Experience an unforgettable day with ponies and horses! You will get to know the farm\, take care of the ponies and horses\, saddle them and enjoy a one-hour ride with them. You will learn exciting things about Western Riding and how to best communicate with the horses. There are also lots of great outdoor games and a horseshoe painting competition!\n\n\nMeeting points Zurich region\nMeeting points Zug and Lucerne region
URL:https://www.schoeb-events.ch/en/event/neufuhr-riding-stable-uster/
CATEGORIES:Lucerne,Region of Zurich,Zug
ATTACH;FMTTYPE=image/jpeg:https://www.schoeb-events.ch/wp-content/uploads/2022/03/reiten.jpg
END:VEVENT
BEGIN:VEVENT
DTSTART;TZID=Europe/Zurich:20230816T080000
DTEND;TZID=Europe/Zurich:20230816T180000
DTSTAMP:20260421T073858
CREATED:20220329T102050Z
LAST-MODIFIED:20230808T160830Z
UID:10000007-1692172800-1692208800@www.schoeb-events.ch
SUMMARY:Glasi Hergiswil
DESCRIPTION:In the Glasi Hergiswil we visit the museum “shaped by fire” and learn about the history of glass during a unique sound and light show. We get to watch the glassblowers at work as they shape\, blow and cast glasses from the glowing mass. Glass is melted for us in a special small furnace so that we can blow our own glass ball. The glass labyrinth will also enchant us and the outdoor glass and water games will give us a welcome cooling down.\n\n\nMeeting points Zurich region\nMeeting points Zug and Lucerne region
URL:https://www.schoeb-events.ch/en/event/glasi-hergiswil/
CATEGORIES:Lucerne,Region of Zurich,Zug
ATTACH;FMTTYPE=image/jpeg:https://www.schoeb-events.ch/wp-content/uploads/2022/03/glasi.jpeg
END:VEVENT
BEGIN:VEVENT
DTSTART;TZID=Europe/Zurich:20230817T080000
DTEND;TZID=Europe/Zurich:20230817T180000
DTSTAMP:20260421T073858
CREATED:20220330T144451Z
LAST-MODIFIED:20230808T162842Z
UID:10000018-1692259200-1692295200@www.schoeb-events.ch
SUMMARY:Goldpanning in Tösstal
DESCRIPTION:What a unique adventure in the great outdoors! We will go in search of real gold and travel to Steg in the Tösstal valley. There we put on our rubber boots and off we go in search of the glitter of gold between the sand and gravel in the stream. At the campfire we roast our sausages and listen to great adventure stories of gold diggers. At the end\, we can take our found treasures home with us…YEAH!\n\n\nMeeting points Zurich region\nMeeting points Zug and Lucerne region
URL:https://www.schoeb-events.ch/en/event/goldpanning-toesstal/
CATEGORIES:Lucerne,Region of Zurich,Zug
ATTACH;FMTTYPE=image/jpeg:https://www.schoeb-events.ch/wp-content/uploads/2022/03/goldwachen_neu-scaled.jpeg
END:VEVENT
BEGIN:VEVENT
DTSTART;TZID=Europe/Zurich:20230817T080000
DTEND;TZID=Europe/Zurich:20230817T180000
DTSTAMP:20260421T073858
CREATED:20220330T165419Z
LAST-MODIFIED:20230808T163505Z
UID:10000060-1692259200-1692295200@www.schoeb-events.ch
SUMMARY:Monkey Town & Boat trip on Lake Zurich
DESCRIPTION:Today we can really let off steam in the Monkey Town play paradise in Horgen! Slides\, climbing mazes\, tunnel systems and great trampolines await us. After so much exercise\, fun and games\, we will go on a leisurely boat trip on Lake Zurich after lunch. There\, in addition to a puzzle game\, a delicious snack awaits us.\n\n\nMeeting points Zurich region\nMeeting points Zug and Lucerne region
URL:https://www.schoeb-events.ch/en/event/monkey-town-boat-trip-on-lake-zurich/
CATEGORIES:Lucerne,Region of Zurich,Zug
ATTACH;FMTTYPE=image/jpeg:https://www.schoeb-events.ch/wp-content/uploads/2022/03/monkeytown-e1651931341437.jpg
END:VEVENT
BEGIN:VEVENT
DTSTART;TZID=Europe/Zurich:20230818T080000
DTEND;TZID=Europe/Zurich:20230818T180000
DTSTAMP:20260421T073858
CREATED:20230216T215122Z
LAST-MODIFIED:20230808T165740Z
UID:10000186-1692345600-1692381600@www.schoeb-events.ch
SUMMARY:Scooter ride up to the Kerenzerberg
DESCRIPTION:Today we will take the train to the valley station of the Kerenzerberg cable car in Glarus\, where we will enjoy a comfortable ride on the chair lift and a wonderful view of Lake Walen. After a short hike we will enjoy a spaghetti snack at the mountain restaurant and then go down to the valley on cool scooters. For children 5-7 years there are smaller scooters than for the older children 8-13 years. Afterwards we will have fun on the Dragon playground!\nMeeting points Zurich region\nMeeting points Zug and Lucerne region
URL:https://www.schoeb-events.ch/en/event/scooter-ride-up-to-the-kerenzerberg/
CATEGORIES:Lucerne,Region of Zurich,Zug
ATTACH;FMTTYPE=image/jpeg:https://www.schoeb-events.ch/wp-content/uploads/2023/02/trottifahrt-scaled.jpg
END:VEVENT
END:VCALENDAR