BEGIN:VCALENDAR
VERSION:2.0
PRODID:-//Schöb Events - ECPv6.15.17.1//NONSGML v1.0//EN
CALSCALE:GREGORIAN
METHOD:PUBLISH
X-WR-CALNAME:Schöb Events
X-ORIGINAL-URL:https://www.schoeb-events.ch
X-WR-CALDESC:Events for Schöb Events
REFRESH-INTERVAL;VALUE=DURATION:PT1H
X-Robots-Tag:noindex
X-PUBLISHED-TTL:PT1H
BEGIN:VTIMEZONE
TZID:Europe/Zurich
BEGIN:DAYLIGHT
TZOFFSETFROM:+0100
TZOFFSETTO:+0200
TZNAME:CEST
DTSTART:20220327T010000
END:DAYLIGHT
BEGIN:STANDARD
TZOFFSETFROM:+0200
TZOFFSETTO:+0100
TZNAME:CET
DTSTART:20221030T010000
END:STANDARD
BEGIN:DAYLIGHT
TZOFFSETFROM:+0100
TZOFFSETTO:+0200
TZNAME:CEST
DTSTART:20230326T010000
END:DAYLIGHT
BEGIN:STANDARD
TZOFFSETFROM:+0200
TZOFFSETTO:+0100
TZNAME:CET
DTSTART:20231029T010000
END:STANDARD
BEGIN:DAYLIGHT
TZOFFSETFROM:+0100
TZOFFSETTO:+0200
TZNAME:CEST
DTSTART:20240331T010000
END:DAYLIGHT
BEGIN:STANDARD
TZOFFSETFROM:+0200
TZOFFSETTO:+0100
TZNAME:CET
DTSTART:20241027T010000
END:STANDARD
END:VTIMEZONE
BEGIN:VEVENT
DTSTART;TZID=Europe/Zurich:20230301T080000
DTEND;TZID=Europe/Zurich:20230301T180000
DTSTAMP:20260421T155113
CREATED:20221116T182959Z
LAST-MODIFIED:20221116T182959Z
UID:10000140-1677657600-1677693600@www.schoeb-events.ch
SUMMARY:Trampolino Dietikon
DESCRIPTION:Today we experience fun and games in the children’s paradise Trampolino! We can prove our skills on the climbing frames and on the climbing volcano with net tube. The bouncy castle\, the wobbly hill\, the mini scooters and the children’s Ferris wheel will also delight you. There’s also air hockey\, table football and a cool double indoor toboggan run….YEAH!
URL:https://www.schoeb-events.ch/en/event/trampolino-dietikon-2/
CATEGORIES:Region of Zurich
ATTACH;FMTTYPE=image/jpeg:https://www.schoeb-events.ch/wp-content/uploads/2022/11/trampolino.jpg
END:VEVENT
BEGIN:VEVENT
DTSTART;TZID=Europe/Zurich:20230302T080000
DTEND;TZID=Europe/Zurich:20230302T180000
DTSTAMP:20260421T155113
CREATED:20221116T183241Z
LAST-MODIFIED:20221116T183241Z
UID:10000141-1677744000-1677780000@www.schoeb-events.ch
SUMMARY:Rolling Rock
DESCRIPTION:Today it’s action time! We can really let off steam at the Rolling Rock Skate & Sport Center’s large indoor and outdoor skate facility. We’ll rent a skateboard\, freestyle scooter\, rollerblades or a BMX and try our hand at the various courses. No previous experience is necessary\, everyone can freely choose their rides on the facility. In addition\, bouldering\, trampolines\, table tennis or floorball are waiting for us…..a pure action!
URL:https://www.schoeb-events.ch/en/event/rolling-rock-3/
CATEGORIES:Region of Zurich
ATTACH;FMTTYPE=image/jpeg:https://www.schoeb-events.ch/wp-content/uploads/2017/01/rollingrock.jpg
END:VEVENT
BEGIN:VEVENT
DTSTART;TZID=Europe/Zurich:20230303T080000
DTEND;TZID=Europe/Zurich:20230303T180000
DTSTAMP:20260421T155113
CREATED:20221116T183451Z
LAST-MODIFIED:20221116T183451Z
UID:10000142-1677830400-1677866400@www.schoeb-events.ch
SUMMARY:Dolder Artificial Ice Rink & Cinema
DESCRIPTION:Today we’ll try our hand at skating on the Dolder artificial ice rink and do our laps…. with or without a polar bear. Beginners can also enjoy the ice sitting on a Rutscherli (chair with runners). In bad weather\, we go to the artificial ice rink in Wetzikon. Each child can bring their own skates or we can hire them. After a delicious lunch\, we go to the cinema in the afternoon with a funny film and popcorn.
URL:https://www.schoeb-events.ch/en/event/dolder-artificial-ice-rink-cinema-2/
CATEGORIES:Region of Zurich
ATTACH;FMTTYPE=image/jpeg:https://www.schoeb-events.ch/wp-content/uploads/2022/10/schlittschuhfahren.jpg
END:VEVENT
END:VCALENDAR