BEGIN:VCALENDAR
VERSION:2.0
PRODID:-//Schöb Events - ECPv6.15.17.1//NONSGML v1.0//EN
CALSCALE:GREGORIAN
METHOD:PUBLISH
X-WR-CALNAME:Schöb Events
X-ORIGINAL-URL:https://www.schoeb-events.ch
X-WR-CALDESC:Events for Schöb Events
REFRESH-INTERVAL;VALUE=DURATION:PT1H
X-Robots-Tag:noindex
X-PUBLISHED-TTL:PT1H
BEGIN:VTIMEZONE
TZID:Europe/Zurich
BEGIN:DAYLIGHT
TZOFFSETFROM:+0100
TZOFFSETTO:+0200
TZNAME:CEST
DTSTART:20220327T010000
END:DAYLIGHT
BEGIN:STANDARD
TZOFFSETFROM:+0200
TZOFFSETTO:+0100
TZNAME:CET
DTSTART:20221030T010000
END:STANDARD
BEGIN:DAYLIGHT
TZOFFSETFROM:+0100
TZOFFSETTO:+0200
TZNAME:CEST
DTSTART:20230326T010000
END:DAYLIGHT
BEGIN:STANDARD
TZOFFSETFROM:+0200
TZOFFSETTO:+0100
TZNAME:CET
DTSTART:20231029T010000
END:STANDARD
BEGIN:DAYLIGHT
TZOFFSETFROM:+0100
TZOFFSETTO:+0200
TZNAME:CEST
DTSTART:20240331T010000
END:DAYLIGHT
BEGIN:STANDARD
TZOFFSETFROM:+0200
TZOFFSETTO:+0100
TZNAME:CET
DTSTART:20241027T010000
END:STANDARD
END:VTIMEZONE
BEGIN:VEVENT
DTSTART;TZID=Europe/Zurich:20230206T080000
DTEND;TZID=Europe/Zurich:20230206T180000
DTSTAMP:20260421T173447
CREATED:20221116T192906Z
LAST-MODIFIED:20221116T192906Z
UID:10000148-1675670400-1675706400@www.schoeb-events.ch
SUMMARY:Lindt Home of Chocolate & Flip Lab
DESCRIPTION:Today we will visit the chocolate world of Lindt Home of Chocolate! As a prelude\, we will be amazed by the spectacular chocolate fountain. Here\, no less than 1500 kg of chocolate flow from a height of 9 meters into the depths. On our chocolate tour we will experience the world of chocolate with all our senses: from its creation to chocolate tasting à discrétion….mmh! In the afternoon we will go to the Flip Lab\, where you can let off steam on various fun courses: Trampolines\, air bags\, basketball trampoline and ninja course!
URL:https://www.schoeb-events.ch/en/event/lindt-home-of-chocolate-flip-lab-2/
CATEGORIES:Lucerne,Zug
ATTACH;FMTTYPE=image/jpeg:https://www.schoeb-events.ch/wp-content/uploads/2020/11/lindt.jpg
END:VEVENT
BEGIN:VEVENT
DTSTART;TZID=Europe/Zurich:20230210T080000
DTEND;TZID=Europe/Zurich:20230210T180000
DTSTAMP:20260421T173447
CREATED:20221116T193732Z
LAST-MODIFIED:20221116T193732Z
UID:10000152-1676016000-1676052000@www.schoeb-events.ch
SUMMARY:Zurich Art House & Bowling
DESCRIPTION:A creative morning awaits us at the Kunsthaus Zürich\, where we will dive into the world of artists with a children’s audio guide. Each work of art with a penguin sign tells us its own story\, and we can draw and design our own pictures along the way. In the afternoon we will go bowling on children’s lanes with lots of colorful balls.
URL:https://www.schoeb-events.ch/en/event/zurich-art-house-bowling-2/
CATEGORIES:Lucerne,Zug
ATTACH;FMTTYPE=image/webp:https://www.schoeb-events.ch/wp-content/uploads/2022/11/kunsthaus.webp
END:VEVENT
BEGIN:VEVENT
DTSTART;TZID=Europe/Zurich:20230213T080000
DTEND;TZID=Europe/Zurich:20230213T180000
DTSTAMP:20260421T173447
CREATED:20221115T171950Z
LAST-MODIFIED:20221115T171950Z
UID:10000118-1676275200-1676311200@www.schoeb-events.ch
SUMMARY:Museum of Transport Lucerne
DESCRIPTION:We spend an exciting day at the Museum of Transport in Lucerne and can marvel in small groups at the numerous exhibitions about the different means of transport such as ships\, trains\, airplanes\, etc.. The exhibition “Experience Logistics!” takes us on an impressive journey of a banana from the farmer in Costa Rica to the shelf in the supermarket in Switzerland. And in the movie theater\, we can look forward to a 3D presentation about the wilderness of the Americas. Of course\, there will be plenty of time to play in the large playground arena with the traffic garden and the bike course.
URL:https://www.schoeb-events.ch/en/event/museum-of-transport-lucerne-2/
CATEGORIES:Lucerne,Region of Zurich,Zug
ATTACH;FMTTYPE=image/jpeg:https://www.schoeb-events.ch/wp-content/uploads/2019/12/IMG_3255.jpg
END:VEVENT
BEGIN:VEVENT
DTSTART;TZID=Europe/Zurich:20230214T080000
DTEND;TZID=Europe/Zurich:20230214T180000
DTSTAMP:20260421T173447
CREATED:20221116T182205Z
LAST-MODIFIED:20221123T152525Z
UID:10000137-1676361600-1676397600@www.schoeb-events.ch
SUMMARY:Chocolarium Maestrani
DESCRIPTION:We travel to Flawil and walk along the cbocolate trail to the Maestrani chocolate world of experience. On a tour of the Chocolarium\, we will go in search of how happiness gets into chocolate. The 100-metre-long chocolate machine will amaze us\, and we’re sure to feel a real sense of happiness during the chocolate test! Finally\, we will pour and decorate our own chocolate bar with our favourite ingredients….mmhh! In the afternoon\, we will visit a playground if the weather is fine. In bad weather\, we will explore the National Museum with a discovery kit and solve various riddles.
URL:https://www.schoeb-events.ch/en/event/chocolarium-maestrani/
CATEGORIES:Lucerne,Region of Zurich,Zug
ATTACH;FMTTYPE=image/jpeg:https://www.schoeb-events.ch/wp-content/uploads/2022/09/chocolarium.jpg
END:VEVENT
BEGIN:VEVENT
DTSTART;TZID=Europe/Zurich:20230214T080000
DTEND;TZID=Europe/Zurich:20230214T180000
DTSTAMP:20260421T173447
CREATED:20221130T200237Z
LAST-MODIFIED:20230324T131243Z
UID:10000172-1676361600-1676397600@www.schoeb-events.ch
SUMMARY:Zurich Zoo
DESCRIPTION:There is always something new to discover at Zurich Zoo! We visit the Masoala Rainforest\, the elephant park\, the indoor penguin enclosure in the aquarium with 8 underwater worlds and of course the largest enclosure of the Zurich Zoo: the Lewa Savanna. There we can marvel at the giraffes\, rhinos and zebras as well as the mysterious baobab feeding trees or baobabs. Of course there will be enough time for the great adventure playgrounds!
URL:https://www.schoeb-events.ch/en/event/zurich-zoo/
CATEGORIES:Lucerne,Zug
ATTACH;FMTTYPE=image/jpeg:https://www.schoeb-events.ch/wp-content/uploads/2022/06/zoo_zuerich-e1655734431113.jpg
END:VEVENT
BEGIN:VEVENT
DTSTART;TZID=Europe/Zurich:20230215T080000
DTEND;TZID=Europe/Zurich:20230215T180000
DTSTAMP:20260421T173447
CREATED:20221115T172445Z
LAST-MODIFIED:20221115T172553Z
UID:10000119-1676448000-1676484000@www.schoeb-events.ch
SUMMARY:Trampolino Dietikon
DESCRIPTION:Today we experience fun and games in the children’s paradise Trampolino! We can prove our skills on the climbing frames and on the climbing volcano with net tube. The bouncy castle\, the wobbly hill\, the mini scooters and the children’s Ferris wheel will also delight you. There’s also air hockey\, table football and a cool double indoor toboggan run….YEAH!
URL:https://www.schoeb-events.ch/en/event/trampolino-dietikon/
CATEGORIES:Lucerne,Region of Zurich,Zug
ATTACH;FMTTYPE=image/jpeg:https://www.schoeb-events.ch/wp-content/uploads/2022/11/trampolino.jpg
END:VEVENT
BEGIN:VEVENT
DTSTART;TZID=Europe/Zurich:20230217T080000
DTEND;TZID=Europe/Zurich:20230217T180000
DTSTAMP:20260421T173447
CREATED:20221115T173136Z
LAST-MODIFIED:20221115T173239Z
UID:10000121-1676620800-1676656800@www.schoeb-events.ch
SUMMARY:Dolder Artificial Ice Rink & Cinema
DESCRIPTION:Today we’ll try our hand at skating on the Dolder artificial ice rink and do our laps…. with or without a polar bear. Beginners can also enjoy the ice sitting on a Rutscherli (chair with runners). In bad weather\, we go to the artificial ice rink in Wetzikon. Each child can bring their own skates or we can hire them. After a delicious lunch\, we go to the cinema in the afternoon with a funny film and popcorn.
URL:https://www.schoeb-events.ch/en/event/dolder-artificial-ice-rink-cinema/
CATEGORIES:Lucerne,Region of Zurich,Zug
ATTACH;FMTTYPE=image/jpeg:https://www.schoeb-events.ch/wp-content/uploads/2022/10/schlittschuhfahren.jpg
END:VEVENT
BEGIN:VEVENT
DTSTART;TZID=Europe/Zurich:20230223T080000
DTEND;TZID=Europe/Zurich:20230223T180000
DTSTAMP:20260421T173447
CREATED:20221115T181910Z
LAST-MODIFIED:20221115T181910Z
UID:10000130-1677139200-1677175200@www.schoeb-events.ch
SUMMARY:Adventure Arena & Kulturama
DESCRIPTION:Today\, action & fun is the order of the day! In the new game worlds of the Adventure Arena in Dübendorf\, we dive into different adventure rooms in small groups and can experience unique adventure missions and solve their puzzles with skill and teamwork. The tasks in the individual Adventure Rooms can be chosen freely or solved several times. We spend the afternoon in Kulturama\, where we discover the anatomy and function of the human being through touch\, hearing and smelling on an adventure trail.
URL:https://www.schoeb-events.ch/en/event/adventure-arena-kulturama/
CATEGORIES:Lucerne,Region of Zurich,Zug
ATTACH;FMTTYPE=image/jpeg:https://www.schoeb-events.ch/wp-content/uploads/2022/11/adventure_arena.jpg
END:VEVENT
BEGIN:VEVENT
DTSTART;TZID=Europe/Zurich:20230224T080000
DTEND;TZID=Europe/Zurich:20230224T180000
DTSTAMP:20260421T173447
CREATED:20221115T182141Z
LAST-MODIFIED:20221115T182141Z
UID:10000131-1677225600-1677261600@www.schoeb-events.ch
SUMMARY:Zurich Art House & Bowling
DESCRIPTION:A creative morning awaits us at the Kunsthaus Zürich\, where we will dive into the world of artists with a children’s audio guide. Each work of art with a penguin sign tells us its own story\, and we can draw and design our own pictures along the way. In the afternoon we will go bowling on children’s lanes with lots of colorful balls.
URL:https://www.schoeb-events.ch/en/event/zurich-art-house-bowling/
CATEGORIES:Lucerne,Region of Zurich,Zug
ATTACH;FMTTYPE=image/webp:https://www.schoeb-events.ch/wp-content/uploads/2022/11/kunsthaus.webp
END:VEVENT
BEGIN:VEVENT
DTSTART;TZID=Europe/Zurich:20230228T080000
DTEND;TZID=Europe/Zurich:20230228T180000
DTSTAMP:20260421T173447
CREATED:20221116T182759Z
LAST-MODIFIED:20221123T152443Z
UID:10000139-1677571200-1677607200@www.schoeb-events.ch
SUMMARY:Chocolarium Maestrani
DESCRIPTION:We travel to Flawil and walk along the cbocolate trail to the Maestrani chocolate world of experience. On a tour of the Chocolarium\, we will go in search of how happiness gets into chocolate. The 100-metre-long chocolate machine will amaze us\, and we’re sure to feel a real sense of happiness during the chocolate test! Finally\, we will pour and decorate our own chocolate bar with our favourite ingredients….mmhh! In the afternoon\, we will visit a playground if the weather is fine. In bad weather\, we will explore the National Museum with a discovery kit and solve various riddles.
URL:https://www.schoeb-events.ch/en/event/chocolarium-maestrani-2/
CATEGORIES:Region of Zurich
ATTACH;FMTTYPE=image/jpeg:https://www.schoeb-events.ch/wp-content/uploads/2022/09/chocolarium.jpg
END:VEVENT
END:VCALENDAR