BEGIN:VCALENDAR
VERSION:2.0
PRODID:-//Schöb Events - ECPv6.15.17.1//NONSGML v1.0//EN
CALSCALE:GREGORIAN
METHOD:PUBLISH
X-ORIGINAL-URL:https://www.schoeb-events.ch
X-WR-CALDESC:Events for Schöb Events
REFRESH-INTERVAL;VALUE=DURATION:PT1H
X-Robots-Tag:noindex
X-PUBLISHED-TTL:PT1H
BEGIN:VTIMEZONE
TZID:Europe/Zurich
BEGIN:DAYLIGHT
TZOFFSETFROM:+0100
TZOFFSETTO:+0200
TZNAME:CEST
DTSTART:20210328T010000
END:DAYLIGHT
BEGIN:STANDARD
TZOFFSETFROM:+0200
TZOFFSETTO:+0100
TZNAME:CET
DTSTART:20211031T010000
END:STANDARD
BEGIN:DAYLIGHT
TZOFFSETFROM:+0100
TZOFFSETTO:+0200
TZNAME:CEST
DTSTART:20220327T010000
END:DAYLIGHT
BEGIN:STANDARD
TZOFFSETFROM:+0200
TZOFFSETTO:+0100
TZNAME:CET
DTSTART:20221030T010000
END:STANDARD
BEGIN:DAYLIGHT
TZOFFSETFROM:+0100
TZOFFSETTO:+0200
TZNAME:CEST
DTSTART:20230326T010000
END:DAYLIGHT
BEGIN:STANDARD
TZOFFSETFROM:+0200
TZOFFSETTO:+0100
TZNAME:CET
DTSTART:20231029T010000
END:STANDARD
END:VTIMEZONE
BEGIN:VEVENT
DTSTART;TZID=Europe/Zurich:20220815T080000
DTEND;TZID=Europe/Zurich:20220815T180000
DTSTAMP:20260422T025515
CREATED:20220620T140212Z
LAST-MODIFIED:20220620T140212Z
UID:10000081-1660550400-1660586400@www.schoeb-events.ch
SUMMARY:Technorama\, Winterthur
DESCRIPTION:The Technorama adventure park offers a playful approach to knowledge and technology. At the numerous exhibitions\, demonstrations and experiment stations\, we experience endless possibilities from science and learn about natural phenomena such as the formation of lightning. Also in the open-air park\, we can explore thirty new stations on the Wonder Bridge to better understand the power of wind and the violence of water. And the wind machines will give us a welcome cooling.
URL:https://www.schoeb-events.ch/en/event/technorama-winterthur/
CATEGORIES:Lucerne,Region of Zurich,Zug
ATTACH;FMTTYPE=image/jpeg:https://www.schoeb-events.ch/wp-content/uploads/2022/06/techno_5.jpeg
END:VEVENT
BEGIN:VEVENT
DTSTART;TZID=Europe/Zurich:20220818T080000
DTEND;TZID=Europe/Zurich:20220818T180000
DTSTAMP:20260422T025515
CREATED:20220620T140739Z
LAST-MODIFIED:20220815T105223Z
UID:10000083-1660809600-1660845600@www.schoeb-events.ch
SUMMARY:Skillspark\, Winterthur
DESCRIPTION:Today we experience a day full of action at the Skillspark in Winterthur! In the huge multi-sport hall\, every child can try out the different parks as a beginner or as an experienced rider: Skatepark\, Big-Air Park\, Trampoline Park or the Pump Track guarantee lots of fun. Skateboards\, scooters or Like-A-Bikes are available\, but those who wish can also bring their own riding equipment. Various rest areas or the indoor playground invite you to relax.
URL:https://www.schoeb-events.ch/en/event/skillspark-winterthur/
CATEGORIES:Lucerne,Region of Zurich,Zug
ATTACH;FMTTYPE=image/jpeg:https://www.schoeb-events.ch/wp-content/uploads/2019/11/IMG_8407-scaled.jpg
END:VEVENT
BEGIN:VEVENT
DTSTART;TZID=Europe/Zurich:20220819T080000
DTEND;TZID=Europe/Zurich:20220819T180000
DTSTAMP:20260422T025515
CREATED:20220330T174958Z
LAST-MODIFIED:20220523T154357Z
UID:10000072-1660896000-1660932000@www.schoeb-events.ch
SUMMARY:Treasure hunt with metal detectors
DESCRIPTION:Explorers’ hearts beat faster today as we set off on a treasure hunt in nature with metal detectors\, shovels and pointers. We roam through woods and meadows looking for historical coins\, belt buckles\, rings\, gold vrenelis and many other treasures. For refreshment\, we will roast a sausage on the campfire and marvel at the treasures we have found. It will be an unforgettable adventure!\n\n\nMeeting points Zurich region\nMeeting points Zug and Lucerne region
URL:https://www.schoeb-events.ch/en/event/treasure-hunt-with-metal-detectors/
CATEGORIES:Lucerne,Region of Zurich,Zug
ATTACH;FMTTYPE=image/jpeg:https://www.schoeb-events.ch/wp-content/uploads/2022/03/metalldetektor.jpeg
END:VEVENT
BEGIN:VEVENT
DTSTART;TZID=Europe/Zurich:20220819T080000
DTEND;TZID=Europe/Zurich:20220819T180000
DTSTAMP:20260422T025515
CREATED:20220620T141024Z
LAST-MODIFIED:20220815T105344Z
UID:10000084-1660896000-1660932000@www.schoeb-events.ch
SUMMARY:Zürich Zoo
DESCRIPTION:There is always something new to discover at Zurich Zoo! We visit the Masoala Rainforest\, the elephant park\, the indoor penguin enclosure in the aquarium with 8 underwater worlds and of course the largest enclosure of the Zurich Zoo: the Lewa Savanna. There we can marvel at the giraffes\, rhinos and zebras as well as the mysterious baobab feeding trees or baobabs. Of course there will be enough time for the great adventure playgrounds!
URL:https://www.schoeb-events.ch/en/event/zuerich-zoo/
CATEGORIES:Lucerne,Region of Zurich,Zug
ATTACH;FMTTYPE=image/jpeg:https://www.schoeb-events.ch/wp-content/uploads/2022/06/zoo_zuerich-e1655734431113.jpg
END:VEVENT
END:VCALENDAR