BEGIN:VCALENDAR
VERSION:2.0
PRODID:-//Schöb Events - ECPv6.15.17.1//NONSGML v1.0//EN
CALSCALE:GREGORIAN
METHOD:PUBLISH
X-WR-CALNAME:Schöb Events
X-ORIGINAL-URL:https://www.schoeb-events.ch
X-WR-CALDESC:Events for Schöb Events
REFRESH-INTERVAL;VALUE=DURATION:PT1H
X-Robots-Tag:noindex
X-PUBLISHED-TTL:PT1H
BEGIN:VTIMEZONE
TZID:Europe/Zurich
BEGIN:DAYLIGHT
TZOFFSETFROM:+0100
TZOFFSETTO:+0200
TZNAME:CEST
DTSTART:20210328T010000
END:DAYLIGHT
BEGIN:STANDARD
TZOFFSETFROM:+0200
TZOFFSETTO:+0100
TZNAME:CET
DTSTART:20211031T010000
END:STANDARD
BEGIN:DAYLIGHT
TZOFFSETFROM:+0100
TZOFFSETTO:+0200
TZNAME:CEST
DTSTART:20220327T010000
END:DAYLIGHT
BEGIN:STANDARD
TZOFFSETFROM:+0200
TZOFFSETTO:+0100
TZNAME:CET
DTSTART:20221030T010000
END:STANDARD
BEGIN:DAYLIGHT
TZOFFSETFROM:+0100
TZOFFSETTO:+0200
TZNAME:CEST
DTSTART:20230326T010000
END:DAYLIGHT
BEGIN:STANDARD
TZOFFSETFROM:+0200
TZOFFSETTO:+0100
TZNAME:CET
DTSTART:20231029T010000
END:STANDARD
END:VTIMEZONE
BEGIN:VEVENT
DTSTART;TZID=Europe/Zurich:20220713T080000
DTEND;TZID=Europe/Zurich:20220713T180000
DTSTAMP:20260422T043121
CREATED:20220329T102459Z
LAST-MODIFIED:20220507T052636Z
UID:10000008-1657699200-1657735200@www.schoeb-events.ch
SUMMARY:City Boulder & Mini golf
DESCRIPTION:In the morning we travel to Kriens and try our hand at the colourful walls in the bouldering hall City Boulder. Each child can climb easy to more difficult routes up the walls according to their abilities and without a rope\, landing again and again on the thick soft mats. After lunch\, it’s off to Lake Lucerne for a game of mini-golf.\n\n\nMeeting points Zug and Lucerne region
URL:https://www.schoeb-events.ch/en/event/city-boulder-mini-golf/
CATEGORIES:Lucerne,Zug
ATTACH;FMTTYPE=image/jpeg:https://www.schoeb-events.ch/wp-content/uploads/2022/03/cityboulder-e1651901188551.jpg
END:VEVENT
BEGIN:VEVENT
DTSTART;TZID=Europe/Zurich:20220714T080000
DTEND;TZID=Europe/Zurich:20220714T180000
DTSTAMP:20260422T043121
CREATED:20220329T102648Z
LAST-MODIFIED:20220513T085937Z
UID:10000009-1657785600-1657821600@www.schoeb-events.ch
SUMMARY:Aeschbach Chocolatier & Planetarium
DESCRIPTION:Today we can immerse ourselves in the fascinating world of chocolate. During an interactive tour and a boat trip at the Aeschbach Chocolatier\, we will learn all about the history of chocolate and the transport routes of cocoa. Afterwards we can create our own chocolate artwork with nuts\, fruits\, salty or spicy…mmhh! After lunch we go to the Museum of Transport for a visit to the Planetarium.\n\n\nMeeting points Zug and Lucerne region
URL:https://www.schoeb-events.ch/en/event/aeschbach-chocolatier-planetarium/
CATEGORIES:Lucerne,Zug
ATTACH;FMTTYPE=image/jpeg:https://www.schoeb-events.ch/wp-content/uploads/2022/03/aeschbach-e1651772710850.jpg
END:VEVENT
BEGIN:VEVENT
DTSTART;TZID=Europe/Zurich:20220718T080000
DTEND;TZID=Europe/Zurich:20220718T180000
DTSTAMP:20260422T043121
CREATED:20220330T143840Z
LAST-MODIFIED:20220507T071800Z
UID:10000016-1658131200-1658167200@www.schoeb-events.ch
SUMMARY:Rolling Rock\, Aarau
DESCRIPTION:It’s action time today! We can really let off steam at the Rolling Rock Skate & Sport Centre’s large indoor and outdoor skate facility. We’ll rent a skateboard\, freestyle scooter\, rollerblades or a BMX and try our hand at the various courses. No previous experience is necessary\, everyone can choose their own rides on the facility. Bouldering\, trampolines\, table tennis or floorball are also waiting for us…..Pure action!\n\n\nMeeting points Zurich region\nMeeting points Zug and Lucerne region
URL:https://www.schoeb-events.ch/en/event/rolling-rock-aarau/
CATEGORIES:Lucerne,Region of Zurich,Zug
ATTACH;FMTTYPE=image/jpeg:https://www.schoeb-events.ch/wp-content/uploads/2019/11/rollingrock.jpg
END:VEVENT
BEGIN:VEVENT
DTSTART;TZID=Europe/Zurich:20220719T080000
DTEND;TZID=Europe/Zurich:20220719T180000
DTSTAMP:20260422T043121
CREATED:20220330T144100Z
LAST-MODIFIED:20220507T072058Z
UID:10000017-1658217600-1658253600@www.schoeb-events.ch
SUMMARY:Appenzell show dairy
DESCRIPTION:How does milk actually become cheese? And what makes cheese so tangy? We’ll have all this explained to us on a guided tour of the Appenzell show dairy. A cheesemaker shows us how the cheese is rennetted and cutting the curds to the point of ripening the cheese. We are also allowed to help out and produce our own fresh cheese. After noodles with cheese and apple sauce\, we go on the pearl trail in the afternoon with a puzzle book. If we find the right answer\, a small gift awaits us in the show dairy.\n\n\nMeeting points Zurich region\nMeeting points Zug and Lucerne region
URL:https://www.schoeb-events.ch/en/event/appenzell-show-dairy/
CATEGORIES:Lucerne,Region of Zurich,Zug
ATTACH;FMTTYPE=image/jpeg:https://www.schoeb-events.ch/wp-content/uploads/2022/03/schaukaeserei-e1651906298747.jpg
END:VEVENT
BEGIN:VEVENT
DTSTART;TZID=Europe/Zurich:20220722T080000
DTEND;TZID=Europe/Zurich:20220722T180000
DTSTAMP:20260422T043121
CREATED:20220330T155742Z
LAST-MODIFIED:20220507T072707Z
UID:10000030-1658476800-1658512800@www.schoeb-events.ch
SUMMARY:Botanical Garden & Flip Lab
DESCRIPTION:In the morning we visit the tropical houses of the botanical garden in Zurich with its variety of colourful and fragrant plants. We learn all about the power of magic plants\, which are already known in witch stories\, as well as the special features about medicinal plants and poisonous plants. On a nature trail we can playfully explore the flora ourselves and fortify ourselves with a snack in the meadow. In the afternoon we go to the action-packed Flip Lab\, where we can really let off steam on the various fun courses: Trampolines\, air bags\, basketball trampoline and ninja course!\n\n\nMeeting points Zurich region\nMeeting points Zug and Lucerne region
URL:https://www.schoeb-events.ch/en/event/botanical-garden-flip-lab/
CATEGORIES:Lucerne,Region of Zurich,Zug
ATTACH;FMTTYPE=image/jpeg:https://www.schoeb-events.ch/wp-content/uploads/2020/11/fliplab-e1651907206808.jpg
END:VEVENT
BEGIN:VEVENT
DTSTART;TZID=Europe/Zurich:20220726T080000
DTEND;TZID=Europe/Zurich:20220726T180000
DTSTAMP:20260422T043121
CREATED:20220330T165004Z
LAST-MODIFIED:20220724T143858Z
UID:10000057-1658822400-1658858400@www.schoeb-events.ch
SUMMARY:Historical Museum Lucerne & Swiss Chocolate Adventure
DESCRIPTION:In the morning we visit the Historical Museum in Lucerne with its very special world of experience in the city’s former armoury. We discover the museum on our own and solve tricky questions with the scanner. As a reward\, a gift awaits us in the safe. After lunch\, it’s off to the chocolate world at the Swiss Museum of Transport\, the Swiss Chocolate Adventure\, and the playground in the afternoon.\n\n\nMeeting points Zurich region\nMeeting points Zug and Lucerne region
URL:https://www.schoeb-events.ch/en/event/historical-museum-lucerne-swiss-chocolate-adventure/
CATEGORIES:Lucerne,Region of Zurich,Zug
ATTACH;FMTTYPE=image/jpeg:https://www.schoeb-events.ch/wp-content/uploads/2022/03/chocolateadventure.jpg
END:VEVENT
BEGIN:VEVENT
DTSTART;TZID=Europe/Zurich:20220727T080000
DTEND;TZID=Europe/Zurich:20220727T180000
DTSTAMP:20260422T043121
CREATED:20220330T162220Z
LAST-MODIFIED:20220702T050217Z
UID:10000042-1658908800-1658944800@www.schoeb-events.ch
SUMMARY:BounceLab & farm Bächlihof
DESCRIPTION:There’s always something going on at the Bounce Lab in Rüti! Many different trampolines invite you to jump\, fly and be amazed! Would you like to try a new jump? The trampoline instructors will be happy to show you the tricks of the cool jumps. There’s also spinning football\, table tennis and a giant swinging sling. In the afternoon\, it’s off to the Bächlihof adventure farm. We enjoy the nature playground\, the goat park and a homemade snack from the farm.\n\n\nMeeting points Zurich region\nMeeting points Zug and Lucerne region
URL:https://www.schoeb-events.ch/en/event/bouncelab-farm-baechlihof/
CATEGORIES:Lucerne,Region of Zurich,Zug
ATTACH;FMTTYPE=image/jpeg:https://www.schoeb-events.ch/wp-content/uploads/2022/03/bouncelab.jpg
END:VEVENT
BEGIN:VEVENT
DTSTART;TZID=Europe/Zurich:20220727T080000
DTEND;TZID=Europe/Zurich:20220727T180000
DTSTAMP:20260422T043121
CREATED:20220330T165138Z
LAST-MODIFIED:20220507T140722Z
UID:10000058-1658908800-1658944800@www.schoeb-events.ch
SUMMARY:Höllgrotten Caves\, Baar
DESCRIPTION:The Lorenztobel near Baar offers us the ideal start today for exploring the unique stalactite caves in Baar. We can marvel at the Höllgrotten caves with their fairytale-like stone formations on a tour and let ourselves be carried away into a fabulous world. We discover the shaggy and fairytale grottoes as well as the wonderfully illuminated magic castle. After visiting this magical underground world\, we enjoy a delicious lunch and spend the afternoon in the nature of the Lorenztobel.\n\n\nMeeting points Zurich region\nMeeting points Zug and Lucerne region
URL:https://www.schoeb-events.ch/en/event/hoellgrotten-caves-baar/
CATEGORIES:Lucerne,Region of Zurich,Zug
ATTACH;FMTTYPE=image/jpeg:https://www.schoeb-events.ch/wp-content/uploads/2022/03/hoellgrotten.jpg
END:VEVENT
BEGIN:VEVENT
DTSTART;TZID=Europe/Zurich:20220728T080000
DTEND;TZID=Europe/Zurich:20220728T180000
DTSTAMP:20260422T043121
CREATED:20220330T165303Z
LAST-MODIFIED:20220507T141126Z
UID:10000059-1658995200-1659031200@www.schoeb-events.ch
SUMMARY:Freiruum & Playground Siehbach
DESCRIPTION:Action and fun await us at the Freiruum leisure centre with a variety of trampolines and a parkour zone where you can test and develop your strength\, dexterity and creativity on their courses with different obstacles. You can relax at Spiilruum\, the indoor playground. We spend the afternoon outside at the Siehbach playground directly on Lake Zug with water pumps\, windmills\, slides and willow tunnels.\n\n\nMeeting points Zurich region\nMeeting points Zug and Lucerne region
URL:https://www.schoeb-events.ch/en/event/freiruum-playground-siehbach/
CATEGORIES:Lucerne,Region of Zurich,Zug
ATTACH;FMTTYPE=image/jpeg:https://www.schoeb-events.ch/wp-content/uploads/2022/03/freiruum-e1651932678327.jpg
END:VEVENT
BEGIN:VEVENT
DTSTART;TZID=Europe/Zurich:20220729T080000
DTEND;TZID=Europe/Zurich:20220729T180000
DTSTAMP:20260422T043121
CREATED:20220330T162524Z
LAST-MODIFIED:20220513T090114Z
UID:10000046-1659081600-1659117600@www.schoeb-events.ch
SUMMARY:Knies Children’s Zoo\, Rapperswil
DESCRIPTION:Today we are going to the children’s zoo in Rapperswil\, where we can discover 400 different animal species and experience them up close. While there\, we watch the elephants bathe or ride on them. Feeding the camels\, a ride on a pony or a ride on the Rösslitram are also unique experiences. Of course\, we also visit the sea lion show and spend a lot of time in the playground.\n\n\nMeeting points Zurich region\nMeeting points Zug and Lucerne region
URL:https://www.schoeb-events.ch/en/event/knies-childrens-zoo-rapperswil/
CATEGORIES:Lucerne,Region of Zurich,Zug
ATTACH;FMTTYPE=image/jpeg:https://www.schoeb-events.ch/wp-content/uploads/2022/03/kinderzoo.jpg
END:VEVENT
END:VCALENDAR