BEGIN:VCALENDAR
VERSION:2.0
PRODID:-//Schöb Events - ECPv6.15.17.1//NONSGML v1.0//EN
CALSCALE:GREGORIAN
METHOD:PUBLISH
X-ORIGINAL-URL:https://www.schoeb-events.ch
X-WR-CALDESC:Events for Schöb Events
REFRESH-INTERVAL;VALUE=DURATION:PT1H
X-Robots-Tag:noindex
X-PUBLISHED-TTL:PT1H
BEGIN:VTIMEZONE
TZID:Europe/Zurich
BEGIN:DAYLIGHT
TZOFFSETFROM:+0100
TZOFFSETTO:+0200
TZNAME:CEST
DTSTART:20250330T010000
END:DAYLIGHT
BEGIN:STANDARD
TZOFFSETFROM:+0200
TZOFFSETTO:+0100
TZNAME:CET
DTSTART:20251026T010000
END:STANDARD
BEGIN:DAYLIGHT
TZOFFSETFROM:+0100
TZOFFSETTO:+0200
TZNAME:CEST
DTSTART:20260329T010000
END:DAYLIGHT
BEGIN:STANDARD
TZOFFSETFROM:+0200
TZOFFSETTO:+0100
TZNAME:CET
DTSTART:20261025T010000
END:STANDARD
BEGIN:DAYLIGHT
TZOFFSETFROM:+0100
TZOFFSETTO:+0200
TZNAME:CEST
DTSTART:20270328T010000
END:DAYLIGHT
BEGIN:STANDARD
TZOFFSETFROM:+0200
TZOFFSETTO:+0100
TZNAME:CET
DTSTART:20271031T010000
END:STANDARD
END:VTIMEZONE
BEGIN:VEVENT
DTSTART;TZID=Europe/Zurich:20260813T080000
DTEND;TZID=Europe/Zurich:20260813T180000
DTSTAMP:20260420T220128
CREATED:20260219T112412Z
LAST-MODIFIED:20260219T112431Z
UID:10000686-1786608000-1786644000@www.schoeb-events.ch
SUMMARY:Milandia\, Greifensee
DESCRIPTION:The Milandia Adventure Park offers the perfect combination of sport and play. In the morning\, we try our hand at bouldering\, where we climb up the colourful climbing walls and land safely back on the ground. In addition to the climbing courses\, there are other fun games of skill. After a delicious lunch we spend the afternoon in the natural pool playing water games\, building sandcastles and enjoying a delicious ice cream. \n\n\nMeeting points Zurich region\nMeeting points Zug and Lucerne region\n\n\n\n\n\n Add to calendar
URL:https://www.schoeb-events.ch/en/event/milandia-greifensee-6/
CATEGORIES:Lucerne,Region of Zurich,Zug
ATTACH;FMTTYPE=image/png:https://www.schoeb-events.ch/wp-content/uploads/2022/09/klettern.png
END:VEVENT
BEGIN:VEVENT
DTSTART;TZID=Europe/Zurich:20260814T080000
DTEND;TZID=Europe/Zurich:20260814T180000
DTSTAMP:20260420T220128
CREATED:20260218T171026Z
LAST-MODIFIED:20260218T171026Z
UID:10000676-1786694400-1786730400@www.schoeb-events.ch
SUMMARY:Lindt home of chocolate & playground 
DESCRIPTION:Today we are visiting the chocolate world of Lindt Home of Chocolate! To start with\, we will be amazed by the spectacular chocolate fountain. No less than 1\,500 kg of chocolate flows down from a height of 9 meters. On our chocolate tour\, we will experience the world of chocolate with all our senses: from its creation to unlimited chocolate tasting… mmm! In the afternoon\, we’ll visit a cool playground. \nMeeting points Zurich region\nMeeting points Zug and Lucerne region
URL:https://www.schoeb-events.ch/en/event/lindt-home-of-chocolate-playground/
CATEGORIES:Lucerne,Region of Zurich,Zug
ATTACH;FMTTYPE=image/jpeg:https://www.schoeb-events.ch/wp-content/uploads/2022/11/Lindt.jpg
END:VEVENT
BEGIN:VEVENT
DTSTART;TZID=Europe/Zurich:20260814T080000
DTEND;TZID=Europe/Zurich:20260814T180000
DTSTAMP:20260420T220128
CREATED:20260219T113146Z
LAST-MODIFIED:20260219T113146Z
UID:10000688-1786694400-1786730400@www.schoeb-events.ch
SUMMARY:Treasure hunt with metal detectors
DESCRIPTION:Explorers’ hearts beat faster today as we set off on a treasure hunt in nature with metal detectors\, shovels and pointers. We roam through woods and meadows looking for historical coins\, belt buckles\, rings\, gold vrenelis and many other treasures. For refreshment\, we will roast a sausage on the campfire and marvel at the treasures we have found. It will be an unforgettable adventure! \n\n\nMeeting points Zurich region\nMeeting points Zug and Lucerne region\n\n\n\n\n\n Add to calendar
URL:https://www.schoeb-events.ch/en/event/treasure-hunt-with-metal-detectors-3/
CATEGORIES:Lucerne,Region of Zurich,Zug
ATTACH;FMTTYPE=image/jpeg:https://www.schoeb-events.ch/wp-content/uploads/2026/02/schatzsuche.jpeg
END:VEVENT
END:VCALENDAR