BEGIN:VCALENDAR
VERSION:2.0
PRODID:-//Schöb Events - ECPv6.15.17.1//NONSGML v1.0//EN
CALSCALE:GREGORIAN
METHOD:PUBLISH
X-ORIGINAL-URL:https://www.schoeb-events.ch
X-WR-CALDESC:Events for Schöb Events
REFRESH-INTERVAL;VALUE=DURATION:PT1H
X-Robots-Tag:noindex
X-PUBLISHED-TTL:PT1H
BEGIN:VTIMEZONE
TZID:Europe/Zurich
BEGIN:DAYLIGHT
TZOFFSETFROM:+0100
TZOFFSETTO:+0200
TZNAME:CEST
DTSTART:20240331T010000
END:DAYLIGHT
BEGIN:STANDARD
TZOFFSETFROM:+0200
TZOFFSETTO:+0100
TZNAME:CET
DTSTART:20241027T010000
END:STANDARD
BEGIN:DAYLIGHT
TZOFFSETFROM:+0100
TZOFFSETTO:+0200
TZNAME:CEST
DTSTART:20250330T010000
END:DAYLIGHT
BEGIN:STANDARD
TZOFFSETFROM:+0200
TZOFFSETTO:+0100
TZNAME:CET
DTSTART:20251026T010000
END:STANDARD
BEGIN:DAYLIGHT
TZOFFSETFROM:+0100
TZOFFSETTO:+0200
TZNAME:CEST
DTSTART:20260329T010000
END:DAYLIGHT
BEGIN:STANDARD
TZOFFSETFROM:+0200
TZOFFSETTO:+0100
TZNAME:CET
DTSTART:20261025T010000
END:STANDARD
END:VTIMEZONE
BEGIN:VEVENT
DTSTART;TZID=Europe/Zurich:20251006T080000
DTEND;TZID=Europe/Zurich:20251010T180000
DTSTAMP:20260420T161023
CREATED:20250519T175412Z
LAST-MODIFIED:20250904T135010Z
UID:10000520-1759737600-1760119200@www.schoeb-events.ch
SUMMARY:Circus days (9.30 am - 4 pm)
DESCRIPTION:Professional entertainers look after the children (aged 5 – 13) from 9.30 – 4 pm and support the circus trainers at Filacro Circus in Nänikon. The children can try out various circus disciplines: Floor acrobatics\, trapeze exercises\, trampolining\, juggling and much more! A hot lunch is served daily for refreshment and delicious snacks await in the circus kitchen trolley. At the end of the week\, the children can present the skills they have learnt in a performance! The children (5 – 13 years) must be brought by the parents to the Filacro Circus in Nänikon at 9.30 in the morning\, where they will be looked after by trained circus artists. In the evening\, the children must be collected again from Circus Filacro at 4.00 pm. The circus days take place from Monday to Friday and must be booked every five days.
URL:https://www.schoeb-events.ch/en/event/circus-days-9-30-am-4-pm-4/
CATEGORIES:Lucerne,Region of Zurich,Uster,Zug
ATTACH;FMTTYPE=image/jpeg:https://www.schoeb-events.ch/wp-content/uploads/2019/11/zirkus-scaled.jpeg
END:VEVENT
BEGIN:VEVENT
DTSTART;TZID=Europe/Zurich:20251006T080000
DTEND;TZID=Europe/Zurich:20251010T180000
DTSTAMP:20260420T161023
CREATED:20250519T174434Z
LAST-MODIFIED:20250904T135229Z
UID:10000519-1759737600-1760119200@www.schoeb-events.ch
SUMMARY:Circus days (8 am - 6 pm)
DESCRIPTION:The children can get a taste of circus air during five days and try out different circus disciplines: Floor acrobatics\, trapeze exercises\, trampoline jumping\, juggling and much more! A hot lunch is served daily for refreshment and delicious snacks await in the circus kitchen trolley. At the end of the week\, the children can present the skills they have learnt in a performance!The Schöb Events care team takes the children (5 – 13 years) to Circus Filacro in the morning\, where they are looked after by trained circus artists at the circus in Nänikon. In the evening\, the children are brought back to the meeting points by Schöb Events carers from Circus Filacro.The circus days take place from Monday to Friday and must be booked every five days. The children can be taken to the reception centres in Zurich\, Uster\, Bubikon\, Zug or Lucerne. Meeting point at station at Uster (only for circus week): – 7.50 am in the morning at track 1/sektor A (first carriage) – 7.35 pm in the evening at track 2/sector A (last carriage) Meeting points Zurich region Meeting points Zug and Lucerne region
URL:https://www.schoeb-events.ch/en/event/circus-days-8-am-6-pm-3/
CATEGORIES:Lucerne,Region of Zurich,Uster,Zug
ATTACH;FMTTYPE=image/jpeg:https://www.schoeb-events.ch/wp-content/uploads/2020/11/zirkus.jpeg
END:VEVENT
BEGIN:VEVENT
DTSTART;TZID=Europe/Zurich:20250422T080000
DTEND;TZID=Europe/Zurich:20250425T180000
DTSTAMP:20260420T161023
CREATED:20241204T152947Z
LAST-MODIFIED:20250418T101421Z
UID:10000402-1745308800-1745604000@www.schoeb-events.ch
SUMMARY:Circus days (9.30 am - 4 pm)
DESCRIPTION:Professional entertainers look after the children (aged 5 – 13) from 9.30 – 4 pm and support the circus trainers at Filacro Circus in Nänikon. The children can try out various circus disciplines: Floor acrobatics\, trapeze exercises\, trampolining\, juggling and much more! A hot lunch is served daily for refreshment and delicious snacks await in the circus kitchen trolley. At the end of the week\, the children can present the skills they have learnt in a performance! The children (5 – 13 years) must be brought by the parents to the Filacro Circus in Nänikon at 9.30 in the morning\, where they will be looked after by trained circus artists. In the evening\, the children must be collected again from Circus Filacro at 4.00 pm. The circus days take place from Tuesday to Friday and must be booked every four days.
URL:https://www.schoeb-events.ch/en/event/circus-days-9-30-am-4-pm-3/
CATEGORIES:Lucerne,Region of Zurich,Uster,Zug
ATTACH;FMTTYPE=image/jpeg:https://www.schoeb-events.ch/wp-content/uploads/2019/11/zirkus-scaled.jpeg
END:VEVENT
BEGIN:VEVENT
DTSTART;TZID=Europe/Zurich:20250422T080000
DTEND;TZID=Europe/Zurich:20250425T180000
DTSTAMP:20260420T161023
CREATED:20241204T151507Z
LAST-MODIFIED:20250418T101541Z
UID:10000401-1745308800-1745604000@www.schoeb-events.ch
SUMMARY:Circus days (8 am - 6 pm)
DESCRIPTION:The children can get a taste of circus air during four days and try out different circus disciplines: Floor acrobatics\, trapeze exercises\, trampoline jumping\, juggling and much more! A hot lunch is served daily for refreshment and delicious snacks await in the circus kitchen trolley. At the end of the week\, the children can present the skills they have learnt in a performance!The Schöb Events care team takes the children (5 – 13 years) to Circus Filacro in the morning\, where they are looked after by trained circus artists at the circus in Nänikon. In the evening\, the children are brought back to the meeting points by Schöb Events carers from Circus Filacro.The circus days take place from Tuesday to Friday and must be booked every four days. The children can be taken to the reception centres in Zurich\, Uster\, Bubikon\, Zug or Lucerne. Meeting point at station at Uster (only for circus week): – 7.50 am in the morning at track 1/sektor A (first carriage) – 7.35 pm in the evening at track 2/sector A (last carriage) Meeting points Zurich region Meeting points Zug and Lucerne region
URL:https://www.schoeb-events.ch/en/event/circus-days-8-am-6-pm-2/
CATEGORIES:Lucerne,Region of Zurich,Uster,Zug
ATTACH;FMTTYPE=image/jpeg:https://www.schoeb-events.ch/wp-content/uploads/2020/11/zirkus.jpeg
END:VEVENT
END:VCALENDAR